BEGIN:VCALENDAR
VERSION:2.0
PRODID:-//wp-events-plugin.com//7.2.3.1//EN
TZID:Australia/Sydney
X-WR-TIMEZONE:Australia/Sydney
BEGIN:VEVENT
UID:3709@unswoc.org
DTSTART;TZID=Australia/Sydney:20251213T100000
DTEND;TZID=Australia/Sydney:20251213T180000
DTSTAMP:20251212T053459Z
URL:https://unswoc.org/wordpress/events/intermediate-hike-springwood-to-bl
 axland-via-lost-world/
SUMMARY:Intermediate Hike - Springwood to Blaxland via Lost World
DESCRIPTION:Photo: Lost World lookout by Oliver D (source).\n\n\n\nHi! Call
 um and myself (Sudarshan) are back for another hike this Saturday :)\n\nTh
 is is the Springwood to Blaxland Station via Lost World walking track. It 
 is not easy\, and you must have prior hiking experience. There are some e
 xposed rock scrambles on the way. Read this report for details and picture
 s.\n\nAll up\, 14km and about 600m of elevation gain. Expect 6-8 hours.\n\
 nThere will also be nice opportunities for a river swim on a nice hot day\
 , bring swimmers.\n\nWe will meet at Springwood at 10:15am for a leisurely
  start.\n\n&nbsp\;\n\nWhat to bring:\n\n\n 	Sturdy shoes!\n 	Small-medium 
 sized backpack to hold your belongings\n 	About 2L of water **super import
 ant to have enough water!!**\n 	Lunch and snacks for the day\n 	A hat\, su
 nscreen\, sunglasses\n\n 	The forecast is 30 degrees\n 	Important\, some o
 f this walk is very exposed to the sun\n\n\n 	Any personal medication you 
 may need\n\nYou will be turned back without adequate gear.\n\n&nbsp\;\n\nI
 n the comment\, please tell me your prior hiking experience\, and the most
  lost you've ever been.\n\n&nbsp\;\n\nFeel free to feel free to reach out 
 to me at webadmin [at] unswoc.org if you have any questions.
ATTACH;FMTTYPE=image/jpeg:https://unswoc.org/wordpress/wp-content/uploads/
 2025/12/lotorldpringood.jpg
CATEGORIES:Bushwalking,Hectic Hiking
LOCATION:http://example.com
END:VEVENT
BEGIN:VTIMEZONE
TZID:Australia/Sydney
X-LIC-LOCATION:Australia/Sydney
BEGIN:DAYLIGHT
DTSTART:20251005T030000
TZOFFSETFROM:+1000
TZOFFSETTO:+1100
TZNAME:AEDT
END:DAYLIGHT
END:VTIMEZONE
END:VCALENDAR