BEGIN:VCALENDAR
VERSION:2.0
PRODID:-//wp-events-plugin.com//7.2.3.1//EN
TZID:Australia/Sydney
X-WR-TIMEZONE:Australia/Sydney
BEGIN:VEVENT
UID:2079@unswoc.org
DTSTART;VALUE=DATE:20161029
DTEND;VALUE=DATE:20161030
DTSTAMP:20161023T001005Z
URL:https://unswoc.org/wordpress/events/intermediate-hike-red-track-sunday
 -boree-log/
SUMMARY:Intermediate Hike: The Red Track (Saturday\, Boree Log)
DESCRIPTION:&nbsp\;\n\nThought you'd reach your low point on the saturday n
 ight of BL??? Wrong. The lowest point will be in the broad daylight of sat
 urday\, if you do the Red Track. A somewhat dubious internet source told m
 e that the bottom of Bungonia Gorge is the lowest point on mainland Austra
 lia. And that's where we are headed.\n\nIt's a 6km hike (borderline dry ca
 nyon)\, but will take about 5-6 hours. Lots of route-finding and rock scra
 mbling involved. A decent level of fitness and adventurous-ness is require
 d.\n\nGear list:\n\n	Hiking shoes\n	Backpack\n\n	Hat\n	Sunscreen\n	min. 1.
 5L water\n	Lunch\n\n\n\nimage source: http://antsclimbingspace.blogspot.c
 om.au/2011/07/red-trackbungonia.html
CATEGORIES:Bushwalking
END:VEVENT
END:VCALENDAR