BEGIN:VCALENDAR
VERSION:2.0
PRODID:-//wp-events-plugin.com//7.2.3.1//EN
TZID:Australia/Sydney
X-WR-TIMEZONE:Australia/Sydney
BEGIN:VEVENT
UID:850@unswoc.org
DTSTART;VALUE=DATE:20150516
DTEND;VALUE=DATE:20150517
DTSTAMP:20150510T080318Z
URL:https://unswoc.org/wordpress/events/intermediate-climbing-trip-nowra/
SUMMARY:Intermediate Climbing Trip - Nowra
DESCRIPTION:Hey everyone\,\n\nRo and I will be running an intermediate clim
 bing trip to Nowra next weekend. We will be doing a day trip on the 16th\,
  leaving that morning and driving back in the evening. \n\nThis is an inte
 rmediate trip so you should be competent in lead climbing and belaying. Yo
 u must also have your own climbing shoes\, harness and (preferably) belay 
 device. If you have any quick draws\, please bring them as well!\n\nWe wil
 l be climbing at an area called Thompson's Point\, the link is here - http
 s://www.thecrag.com/climbing/australia/nowra/thompsons-point\n\nIf you hav
 e any questions or need help arranging a lift\, then just send me a messag
 e - 0418 800 740\n\n\nSkye
CATEGORIES:Outdoor Climbing
LOCATION:Thompson's Point\, Yalwal road \, Nowra\, Australia
GEO:-34.891788;150.589706
X-APPLE-STRUCTURED-LOCATION;VALUE=URI;X-ADDRESS=Yalwal road \, Nowra\, Aust
 ralia;X-APPLE-RADIUS=100;X-TITLE=Thompson's Point:geo:-34.891788,150.58970
 6
END:VEVENT
END:VCALENDAR