BEGIN:VCALENDAR
VERSION:2.0
PRODID:-//wp-events-plugin.com//7.2.3.1//EN
TZID:Australia/Sydney
X-WR-TIMEZONE:Australia/Sydney
BEGIN:VEVENT
UID:2049@unswoc.org
DTSTART;VALUE=DATE:20160814
DTEND;VALUE=DATE:20160815
DTSTAMP:20160809T142020Z
URL:https://unswoc.org/wordpress/events/intermediate-climbing-trip-cosmicr
 acktion-death-cracks/
SUMMARY:Intermediate Climbing Trip: CosmiCrAcktion - Death Cracks
DESCRIPTION:517Hey\,\n\nAlastair\, Michael Mate (and potentially some other
  trad leaders) and I are thinking about heading to Cosmic County this Sund
 ay. Cosmic is home to what most Trad Daddies and Crack Whores agree is the
  Mountains' best splitter (read awesome crack): Interstate 31. There are s
 ome other awesome climbs to get on there.\n\nDue to transport limitations\
 , this trip is targeted at climbers who want to improve their ropework and
  anchor skills/knowledge. As such\, you should already have some level of 
 exposure to these skills (e.g.. Brendan's anchor workshops\, some experien
 ce seconding trad\, etc.). Assumed knowledge (which we will go over briefl
 y before we start climbing) includes:\n\n	Types of anchor systems - slidin
 g X\, cordalette\, eqalette\, qua\n	Knots - clove hitch\, alpine butterfly
  and the usual stuff like overhand and figure eight on a bight\n\nThis is 
 a good way to learn about trad placements and gain exposure to a different
  (and awesome) style of climbing: crack climbing. Shoot me a message on ac
 ebook or emailme if you're interested (with experience\, etc)\n\nOh and th
 e  plan is to set up a top rope on I31 and do Death Crack laps\n\nWhat to
  Bring:\n\n	Helmet\n	Harness\n	ATC + spare biners\n	Sling or two\n	Shoes\n
 	Chalk\n	Lunch\n	Water\n	A big bag to help carry gear and rope\n
ATTACH;FMTTYPE=image/jpeg:https://unswoc.org/wordpress/wp-content/uploads/
 2016/08/CC26.jpg
CATEGORIES:Outdoor Climbing
END:VEVENT
END:VCALENDAR