BEGIN:VCALENDAR
VERSION:2.0
PRODID:-//wp-events-plugin.com//7.2.3.1//EN
TZID:Australia/Sydney
X-WR-TIMEZONE:Australia/Sydney
BEGIN:VEVENT
UID:2059@unswoc.org
DTSTART:20160909T200000Z
DTEND:20160909T200000Z
DTSTAMP:20160908T011433Z
URL:https://unswoc.org/wordpress/events/intermediate-climbing-trip-2/
SUMMARY:Intermediate climbing trip
DESCRIPTION:Hi everyone :)\n\nSorry for the late notice\, but we just reali
 sed one of our leaders can't make it next week\, so we're going to run a t
 rip this week instead :) Gear night this week has passed\, but luckily for
  us\, Andrew and Abi are gear guys \;)\n\nMt York probably. Saturday 10th 
 Sept\n\nIdeally most who come should be able to lead and lead belay\, howe
 ver we might consider taking along a few beginners (either way\, message m
 yself\, Abi and Andrew about what experience you have)\n\nThings to bring:
 \n\n	Harness\n	Helmet\n	belay device\n	Shoes and chalk bag\n	Safety sling 
 and locking biner\n	lunch and water\n	Your own gear if you have it\n
CATEGORIES:Outdoor Climbing
END:VEVENT
END:VCALENDAR