BEGIN:VCALENDAR
VERSION:2.0
PRODID:-//wp-events-plugin.com//7.2.3.1//EN
TZID:Australia/Sydney
X-WR-TIMEZONE:Australia/Sydney
BEGIN:VEVENT
UID:2126@unswoc.org
DTSTART;VALUE=DATE:20170318
DTEND;VALUE=DATE:20170319
DTSTAMP:20170315T030902Z
URL:https://unswoc.org/wordpress/events/intermediate-climbing-blowhole-bor
 ee-log-saturday/
SUMMARY:Intermediate Climbing Blowhole: Boree Log Saturday
DESCRIPTION:Hi Guys Maria and I will be running an intermediate climbing tr
 ip on the Saturday of boree log to blowhole crag: https://www.thecrag.com
 /climbing/australia/blue-mountains/blow-hole\n\nBy intermediate we mean so
 meone who can lead (has led) but maybe isn't confident going out on their 
 own yet or wants additional tips etc. There is limited provision for setti
 ng up top ropes and we probably won't. We are happy to teach more advanced
  leading skills like cleaning and give general tips as well!\n\nYou will N
 EED to have your own gear (mostly) for this trip including:\n\n	Harness\n	
 Belay device\n\nWe can provide some quick draws and ropes etc but if you h
 ave these please bring them as well.\n\nYou will also need food\, water an
 d appropriate clothing (forecast is for rain so please bring weather proof
  gear). There is potential this trip will get rained out if there is too m
 uch rain. If you have any questions don\;t hesitate to contact me (Jarrod 
 Axe) or Maria.
CATEGORIES:Outdoor Climbing
END:VEVENT
END:VCALENDAR