BEGIN:VCALENDAR
VERSION:2.0
PRODID:-//wp-events-plugin.com//7.2.3.1//EN
TZID:Australia/Sydney
X-WR-TIMEZONE:Australia/Sydney
BEGIN:VEVENT
UID:2063@unswoc.org
DTSTART;VALUE=DATE:20160925
DTEND;VALUE=DATE:20160926
DTSTAMP:20160920T133629Z
URL:https://unswoc.org/wordpress/events/intermediate-climbing-bardens-look
 out/
SUMMARY:Intermediate Climbing @ Bardens Lookout
DESCRIPTION:Eamonn and I are running an intermediate climbing trip at Barde
 ns Lookout this Sunday. The crag has a really nice spread of climbs in the
  high-teens and low-twenties\, perfect for anyone who has come on a bunch 
 of beginner trips and wants to push their climbing outdoors.\n\nYou can ch
 eck out the climbs here: https://www.thecrag.com/climbing/australia/blue-m
 ountains/bardens-lookout\n\nExperience in lead climbing and lead belaying 
 is preferred\, but message either Eamonn or myself if you are unsure about
  your experience and would still like to come.\n\nGEAR -  Most of the ite
 ms in this list can be hired on Wednesday from the gear cupboard for a $10
  deposit. This will be returned to you when you return the gear. It's also
  your responsibility to sort out gear before the trip.\n\n	Harness - avail
 able for hire\n	Climbing shoes - available for hire\n	Locking carabiner an
 d belay device - available for hire\n	Helmet - available for hire\n	Chalk 
 and chalk bag - optional\n	Food and water for the day\n	Sunscreen\n	Fuel m
 oney for your driver\n\nTRANSPORT - We will most likely car pool from uni.
  If you have a car and can drive\, please message Eamonn or myself.\n\nFee
 l free to shoot any questions to Eamonn or myself via the interwebs or at 
 the Ledge on Thursday.\n\nSee you there :)
CATEGORIES:Outdoor Climbing
END:VEVENT
END:VCALENDAR