BEGIN:VCALENDAR
VERSION:2.0
PRODID:-//wp-events-plugin.com//7.2.3.1//EN
TZID:Australia/Sydney
X-WR-TIMEZONE:Australia/Sydney
BEGIN:VEVENT
UID:1516@unswoc.org
DTSTART;VALUE=DATE:20160214
DTEND;VALUE=DATE:20160215
DTSTAMP:20160209T085800Z
URL:https://unswoc.org/wordpress/events/intermediate-canyoning/
SUMMARY:Intermediate Canyoning
DESCRIPTION:Keen to heap up to do a canyon on Sunday. I don't mind what we 
 do\, so I am happy to have a discussion about it. I would like to drive u
 p early on Sunday morning.\n\nI am opening the trip to 8 people\, but that
  will  be contingent on anouther car coming. Go and get the gear you need
  tomorrow night for a vertical canyon - I will organise ropes. If need to 
 ask what to bring\, then this might not be the trip for you.\n\nWe will ge
 t in contact later in the week for final details.
ATTACH;FMTTYPE=image/jpeg:https://unswoc.org/wordpress/wp-content/uploads/
 2015/03/Serendipity.jpg
CATEGORIES:Canyoning
END:VEVENT
END:VCALENDAR