BEGIN:VCALENDAR
VERSION:2.0
PRODID:-//wp-events-plugin.com//7.2.3.1//EN
TZID:Australia/Sydney
X-WR-TIMEZONE:Australia/Sydney
BEGIN:VEVENT
UID:2354@unswoc.org
DTSTART;VALUE=DATE:20190216
DTEND;VALUE=DATE:20190217
DTSTAMP:20190210T025135Z
URL:https://unswoc.org/wordpress/events/intermediate-canyoning-trip-to-but
 terbox/
SUMMARY:Intermediate Canyoning Trip to Butterbox
DESCRIPTION:Welcome to a new uni term! Let's start it right by going canyon
 ing! :)\n\nMatthew and I (Maria) will be leading an intermediate canyoning
  trip on Saturday the 16th. We will explore the beautiful Butterbox/Mt Hay
  canyon (find all the details here: https://ozultimate.com/canyoning/trac
 k_notes/mt_hay.htm).\n\nThe plan is to drive to the Blue Mountains early i
 n the morning (we will carpool\, if you have a car message me and you get 
 preference in the trip!)\, hike to the entrance of the canyon\, put the we
 tsuits on\, and scramble down the river\, abseil after abseil\, and finall
 y climb out and hike back to the car. It will be an awesome day out and yo
 u will need:\n\n 	To be fit\, know how to swim and know how to abseil. Tic
 k off the 3 of them.\n 	Canyoning gear: A harness*\, a helmet*\, a locking
  carabiner* attached to an ATC*\, a second locking carabiner* attached to 
 a safety sling*\, and a third locking carabiner* attached to a prusik cord
 *. Also a wetsuit*\, a drybag*\, a torch (preferably headtorch)\, and a ba
 ckpack that can fit ALL your gear in and that can get wet.\n 	For clothing
 : Enclosed shoes with good grip\, wollen socks\, shortboards to wear on to
 p of the wetsuit (this is compulsory if you borrow the wetsuit from the cl
 ub\, to protect it)\, warm clothes such as thermals/raincoat that you'll p
 ut in your dry bag (in case we get stuck you need to carry something warm 
 and dry).\n 	For yumyuming: 2 l of water\, food or snacks\, chocolate for 
 the trip leaders please.\n 	Other gear: sunscreen\, cash ($5-$10) for petr
 ol\, medicines if you need them (asthma puffer\, etc)\, a pair of flipflop
 s to leave in the car (since your shoes will get wet)\, and a phone full o
 f battery.\n\n\n\nIf you have any questions message us (Matthew Notarangel
 o or Maria LC on facebook). See you there!
CATEGORIES:Canyoning
END:VEVENT
END:VCALENDAR