BEGIN:VCALENDAR
VERSION:2.0
PRODID:-//wp-events-plugin.com//7.2.3.1//EN
TZID:Australia/Sydney
X-WR-TIMEZONE:Australia/Sydney
BEGIN:VEVENT
UID:2078@unswoc.org
DTSTART;VALUE=DATE:20161022
DTEND;VALUE=DATE:20161023
DTSTAMP:20161018T215533Z
URL:https://unswoc.org/wordpress/events/intermediate-canyoning-trip-macqua
 rie-pass-lower-section/
SUMMARY:Intermediate Canyoning Trip - Macquarie Pass (lower section)
DESCRIPTION:Hey everyone :)\n\nDave Morrison and I are leading a trip to Ma
 cquarie Pass canyon this Saturday. I haven't done it before and its been a
 while since Dave has done it\, so we will only take 4 people\, and you hav
 e to have done at least 1-2 vertical canyons before and be comfortable abs
 eiling (and not completely necessary but preferable: know how to set up yo
 ur own leg-loop self-belay prussik).\n\nWe need 2 cars and currently only 
 have one\, so preference will be given to people who can drive!\n\nI'm pla
 nning to head to the Blueys straight after the canyon\, so hopefully every
 one else will be able to fit into the second car.\n\nThings to bring:\n\n	
 harness\n	helmet\n	belay device\n	safety sling and locking biner\n	prussik
 s and biners for them\n	closed shoes and woollen socks\n	Dry warm clothing
  (in a dry bag)\n	Rain jacket/windbreaker if you have it + beanie if you g
 et cold easily\n	lunch and water\n	head torch (also in dry bag) with full/
 spare batteries\n	backpack to carry it all in\n	WETSUIT (and possibly ther
 mals to wear underneath)\n\nPlease PM me with:\n\na) canyoning experience\
 n\nb) what gear you already have (Note that it is your responsibility to g
 et any club gear you need at gear night tonight)\n\nc) any medical issues/
 allergies we should know about\n\nd) if you have a car\n\nCool :) I haven'
 t canyoned in awhile so am looking forward to it! :)
CATEGORIES:Canyoning
END:VEVENT
END:VCALENDAR