BEGIN:VCALENDAR
VERSION:2.0
PRODID:-//wp-events-plugin.com//7.2.3.1//EN
TZID:Australia/Sydney
X-WR-TIMEZONE:Australia/Sydney
BEGIN:VEVENT
UID:2403@unswoc.org
DTSTART;VALUE=DATE:20190406
DTEND;VALUE=DATE:20190407
DTSTAMP:20190401T112203Z
URL:https://unswoc.org/wordpress/events/intermediate-canyoning-on-saturday
 /
SUMMARY:Intermediate canyoning on Saturday
DESCRIPTION:Hi there! Brendon Yiu and I (Maria LC) will be leading an inter
 mediate canyoning trip this Saturday (6/4/19) to the Blue Mountains (proba
 bly Yileen). We are getting to the end of the canyoning season so make sur
 e you make the most out of it!\n\nFor this trip you need to\n\n1. Be fit\,
  it's a long hike.\n\n2. Be a good swimmer.\n\n3. Know how to abseil.\n\nF
 or gear you will need\n\n1. Harness / helmet / ATC / 2 locking biners / sa
 fety sling / wetsuit (all can be borrowed from the club)\n\n2. A backpack 
 that can get wet\, with a dry-bag inside that shouldn't get wet. Inside th
 e dry bag you need thermals/warm clothes\, a torch\, and a small raincoat.
 \n\n3. Wear shoes with good grip\, wollen socks\, bring 2 L of water and f
 ood\, and any personal medicines you need.\n\nWe will carpool to get there
 \, driving early morning on Saturday. Message me or Brendon if you have an
 y questiond. Get keen and see you there! :)
CATEGORIES:Canyoning
END:VEVENT
END:VCALENDAR