BEGIN:VCALENDAR
VERSION:2.0
PRODID:-//wp-events-plugin.com//7.2.3.1//EN
TZID:Australia/Sydney
X-WR-TIMEZONE:Australia/Sydney
BEGIN:VEVENT
UID:2276@unswoc.org
DTSTART:20180824T130000Z
DTEND:20180825T130000Z
DTSTAMP:20180814T130255Z
URL:https://unswoc.org/wordpress/events/intermediate-canyoning-kalang-fall
 s/
SUMMARY:Intermediate Canyoning: Kalang Falls
DESCRIPTION:Spring has officially sprung\, and what better way to celebrate
  it than heading out to the stunning  Kanangra-Boyd National Park and exp
 loring Kalang Falls!\n\nThis is going to be a big day\, with over 500m of 
 exposed abseiling down beside waterfalls with pitches as long as 50m - mad
 e more fun by slippery quartzite rock.\nOf course\, that much descending c
 omes at a cost - in this case\, a fairly heinous hike/slide upwards\, with
  some off-track navigation along the aptly named 'Manslaughter Ridge'...\n
 \n\n\nIf you’re keen\, please message me on facebook with your relevant 
 outdoors experience - abseiling and canyoning experience are an absolute m
 ust\, as is a steady head for heights. Due to the still-short days in spri
 ng\, we'll need to be a fairly small group - places will be very limited\,
  so get in quick!\n\nTransport is still TBA\, but it'll likely be a Friday
  24th evening departure\, camping/bivying overnight at Kanangra Walls - an
 d returning Sunday 26th\, almost certainly via a Blue Mountains crag!
CATEGORIES:Abseiling,Bushwalking,Canyoning
END:VEVENT
END:VCALENDAR