BEGIN:VCALENDAR
VERSION:2.0
PRODID:-//wp-events-plugin.com//7.2.3.1//EN
TZID:Australia/Sydney
X-WR-TIMEZONE:Australia/Sydney
BEGIN:VEVENT
UID:645@unswoc.org
DTSTART:20141101T200000Z
DTEND:20141102T080000Z
DTSTAMP:20141027T151702Z
URL:https://unswoc.org/wordpress/events/intermediate-canyon-upper-williams
 -river/
SUMMARY:Boree Log Intermediate Canyon - Upper Williams River
DESCRIPTION:Hey guys\,\n\n\nWe will be leading a group through Upper Willia
 ms river on the Sunday of Boree Log. Disclaimer: we have NEVER DONE this p
 art of the canyon before - thus\, please only join this trip if you have 
 reasonable canyoning experience (Grand &amp\; Empress don't count). You 
 should be comfortable with river walking\, rock scrambling\, abseiling\, e
 tc.You will need to have ALL your own gear for this canyon - if you do not
  have all of the gear listed below\, try to borrow from a friend as it is 
 unlikely you will be able to borrow from the club (Beginners trips get pri
 ority for gear).Please ensure you bring: shoes with good grip (eg. volleys
 )\, wetsuit\, backpack\, drybag\, lunch / snacks\, water bottle\, helmet\,
  headlight torch\, emergency blanket\, thermals or warm jacket\, plus a ch
 ange of clothes to leave in the car. This part of the canyon is not suppos
 ed to have any abseils but we will be bringing one harness setup just in c
 ase.As we do not know this canyon\, we cannot acurately estimate how long 
 the trip will take. We will however be aiming to leave camp (all gear\, in
 cluding tents\, packed up) at 7AM. This is due to the 2hr drive to the sta
 rt of the canyon\, plus approximately 3hr walk in. We know it may be dif
 ficult for some people to get up early after party night of Boree log so p
 lease bear this in mind when signing up. If you are not ready to leave aro
 und 7am\, you may be left behind.\n\nWe know very little about this canyon
  - practically all our knowledge is derived from a few conversations with 
 canyoning veterans and this youtube video: http://www.youtube.com/watch?v=
 LCfCdfq0Gfw\n\nWe will be aiming to cut in below the falls to avoid having
  to carry long ropes / abseil gear. We will also not be taking the exact r
 oute described at the beginning of the video (avoiding Selby Alley hut &am
 p\; Kungie Gully).\n\nIf you have any questions regarding the trip\, feel 
 free to contact me via facebook or email: katielillyman2@gmail.com\n\n&nbs
 p\;\n\n&nbsp\;\n\n
CATEGORIES:Boree Log,Canyoning
END:VEVENT
END:VCALENDAR