BEGIN:VCALENDAR
VERSION:2.0
PRODID:-//wp-events-plugin.com//7.2.3.1//EN
TZID:Australia/Sydney
X-WR-TIMEZONE:Australia/Sydney
BEGIN:VEVENT
UID:497@unswoc.org
DTSTART:20140718T130000Z
DTEND:20140718T130000Z
DTSTAMP:20140718T112349Z
URL:https://unswoc.org/wordpress/events/intermediate-canyon-trip-minamurra
 -creek/
SUMMARY:Intermediate Canyon trip - Minnamurra Creek
DESCRIPTION:Phil and I are leading a trip this Saturday to do a wet (but sh
 ort!) canyon near Wollongong. Intermediate (&amp\; slightly crazy) canyo
 ners welcome - it is a horizontal canyon so no abseils\, but not one we ha
 ve done before or have too much info on.\n\nFeel free to come along - you 
 just need to organise your own gear.
CATEGORIES:Canyoning
END:VEVENT
END:VCALENDAR