BEGIN:VCALENDAR
VERSION:2.0
PRODID:-//wp-events-plugin.com//7.2.3.1//EN
TZID:Australia/Sydney
X-WR-TIMEZONE:Australia/Sydney
BEGIN:VEVENT
UID:3250@unswoc.org
DTSTART;TZID=Australia/Sydney;VALUE=DATE:20230506
DTEND;TZID=Australia/Sydney;VALUE=DATE:20230507
DTSTAMP:20230503T090542Z
URL:https://unswoc.org/wordpress/events/intermediate-canyon-jugglers-grand
 /
SUMMARY:Intermediate Canyon – Jugglers + Grand
DESCRIPTION:\n\n\n\n\nHello!\n\nOn Saturday 6th May\, Maddi and myself (Mat
 t) will be running a trip to Jugglers Canyon and Grand Canyon.\n\n\n\n\n\n
 Although these canyons are fairly easy\, it will be quite cold so we want 
 to move fast. Ideally\, you've been on a few canyoning trips before and ar
 e confident abseiling.\n\n\nYou will also need to arrange your own gear (i
 tems with an asterisk* can be borrowed from the club gear shed):\n\n\n\n 	
 Harness* (ideally a canyoning harness with bumpad)\n 	Helmet*\n 	Wetsuit*\
 n 	Neoprene gloves/booties\n 	3x locking carabiner*\n 	1x figure 8* or ATC
  descender\n 	1x safety* (a 120cm sling is acceptable)\n 	1x large drybag*
 \n 	Emergency blanket (can be purchased from the gear cupboard\, most outd
 oor stores\, and pharmacies for $5-10)\n 	Backpack to store all of your 
 gear\n 	Headtorch\n 	Cash for fuel\n 	Clothing –\n\n 	Enclosed shoes wit
 h good grip (e.g. old sneakers) (remember you will climb out in these!)\n 
 	Dry and sun-safe clothes to hike in/out of the canyon in\n 	Boardshorts t
 o wear on top of wetsuit (compulsory to protect the club wetsuits)\n 	Thic
 k socks\n 	Light raincoat that is ok to get wet\n 	Thermal top and bottoms
 \, jumper &amp\; beanie (e.g. enough clothing to keep warm in a canyon ove
 rnight in an emergency)\n 	Optional: swimmers to put under your wetsuit\, 
 microfibre towel\n 	DO NOT BRING COTTON CLOTHING.\n\n\n\n\n 	Food –\n\n 
 	1.5L of water in bottles\n 	Substantial lunch (pack it in a waterproof co
 ntainer\, and make sure it’s vaguely crush-proof)\n 	Snacks\n\n\n 	Any p
 ersonal medicine (asthma puffer\, Epipen etc)\n\nIf you have any questions
 \, message myself or Maddi on Facebook.  Write down your abseiling / out
 door experience in the comment when signing up\, your favourite snack (so 
 we know you’ve read this far)\, whether you have a car\, and how many sp
 ots you have. Please be aware that this trip is weather-dependent. See you
  soooooooooon!\n\n\n
ATTACH;FMTTYPE=image/jpeg:https://unswoc.org/wordpress/wp-content/uploads/
 2023/04/20171217134514_g9xii_01397.jpg
CATEGORIES:Canyoning
END:VEVENT
BEGIN:VTIMEZONE
TZID:Australia/Sydney
X-LIC-LOCATION:Australia/Sydney
BEGIN:STANDARD
DTSTART:20230402T020000
TZOFFSETFROM:+1100
TZOFFSETTO:+1000
TZNAME:AEST
END:STANDARD
END:VTIMEZONE
END:VCALENDAR