BEGIN:VCALENDAR
VERSION:2.0
PRODID:-//wp-events-plugin.com//7.2.3.1//EN
TZID:Australia/Sydney
X-WR-TIMEZONE:Australia/Sydney
BEGIN:VEVENT
UID:1951@unswoc.org
DTSTART:20160229T080000Z
DTEND:20160229T110000Z
DTSTAMP:20160221T113215Z
URL:https://unswoc.org/wordpress/events/intermediate-aid-skills-session/
SUMMARY:Intermediate First Aid Skills Session
DESCRIPTION:Laura and I will be running a first aid skill session for trip 
 leaders.\n\nThe aim of this night is to increase the knowledge of current 
 trip leaders and a basic understanding of first aid is requested.\n\nIf yo
 u want to know if you would be able to do this course feel free to faceboo
 k message me.\n\nWe will be looking into basic snake bite treatments\, the
  basics of wilderness first aid and some basic fracture and bleeding treat
 ment.\n\nThe room will be confirmed at some point this week.
CATEGORIES:Training
END:VEVENT
END:VCALENDAR