BEGIN:VCALENDAR
VERSION:2.0
PRODID:-//wp-events-plugin.com//7.2.3.1//EN
TZID:Australia/Sydney
X-WR-TIMEZONE:Australia/Sydney
BEGIN:VEVENT
UID:3579@unswoc.org
DTSTART;TZID=Australia/Sydney:20250413T140000
DTEND;TZID=Australia/Sydney:20250413T180000
DTSTAMP:20250410T225546Z
URL:https://unswoc.org/wordpress/events/intermediate-afternoon-caving-vert
 ical-rope-skills-workshop/
SUMMARY:[FULL] [Intermediate] Afternoon Caving Vertical Rope Skills Worksho
 p
DESCRIPTION:Hey Folks! Zee and I will be running a Caving Ropes skills focu
 sed workshop this Sunday Afternoon (exact time TBD) in the Berowra Nationa
 l Parks area.\n\nThis workshop is aimed at folks who have some previous ex
 perience with abseiling &amp\; prusiking / ascending (even if its with fig
 ure 8s\, microtraxions\, prusiks!) and are looking to learn some more adva
 nced SRT vertical rope skills\, although anyone is welcome to sign up! The
 se advanced SRT skills are commonly applied on more technical vertical cav
 es\, and will open a whole new range of possibilities! (Especially if you 
 join a dedicated\, ASF affiliated caving club like SUSS!)   They can als
 o be handy vertical rope skills to have\, even if you're not a caver!\n\nW
 e're hoping to cover the following topics\, depending on how time goes:\n\
 n 	General / common caving SRT equipment setup\n 	Descending / Abseiling u
 sing Petzl Stops\, &amp\; Rap Racks\n 	Ascending using mechanical ascender
 s\n 	Switching from Ascending to Descending and vice versa\n 	Passing Rebe
 lays &amp\; Redirects (going up and down)\n 	Passing knots (going up and d
 own)\n 	Horizontal Traverses\n 	Going up &amp\; down ladders (and belaying
  on ladders)\n 	Pendulums (This is probably a bit optimistic!)\n\nYou will
  need the following gear:\n\n[caption id="" align="alignright" width="287"
 ] SRT ascending/descending kit (descender omitted for clarity) Credit: WAS
 G[/caption]\n\n 	1 x Cows tails (or daisy chains / adjustable lanyards etc
 ). Essentially\, we're looking to have 2 safeties that are of an adjustabl
 e length. Alternatively\, you can also bring a length of DYNAMIC rope (som
 ething that you'd still take a whip on!) and we can make the cowstail.\n 	
 1 x Hand Ascender\n 	1 x Chest Ascender\n 	1 x Chest Harness (Length of We
 bbing or accessory cord is OK as well. Not safety gear)\n 	1 x Cave Harnes
 s (Alternative: Canyon harness\, ideally WITHOUT the butt protector)\n 	1 
 x Helmet\n 	1 x Petzl Stop Descender (or other caving descender)\n 	1 x Fo
 ot loop (A length of accessory cord\, sling\, static rope is OK as well. N
 ot safety gear).\n 	At least 6 locking biners\n 	Please bring other gear t
 hat you might normally carry around (eg microtraxions\, tiblocs\, prussiks
 )\n\nOther items:\n\n 	Hat\n 	Lunch\n 	Water\n 	Hiking boots / sneakers et
 c\n 	Backpack that can fit everything\n 	Weather appropriate clothes\n 	No
 tebook &amp\; Notepad\n 	Flashlight / Headlight - Daylight savings is over
 !\n 	Sunscreen / Insect repellent?\n\nItems in BLUE can be borrowed from t
 he gear cupboard. \n\nPlease let me know in the comments:\n\n 	What gear 
 do you already have\, and what gear do you need\n 	Previous experience / r
 ope skills (none is okay as well)\n 	What you're hoping to learn from this
  workshop\n 	Do you have a car &amp\; how many spaces? If you need a lift\
 , from which area?\n\nWe'll hash out exact Crag and Meetup time during the
  week!\n
ATTACH;FMTTYPE=image/jpeg:https://unswoc.org/wordpress/wp-content/uploads/
 2025/04/IMG_20250118_163848806_HDR-scaled.jpg
CATEGORIES:Caving,Training
LOCATION:https://maps.app.goo.gl/TkfPkf78N8EU4sDbA
END:VEVENT
BEGIN:VTIMEZONE
TZID:Australia/Sydney
X-LIC-LOCATION:Australia/Sydney
BEGIN:STANDARD
DTSTART:20250406T020000
TZOFFSETFROM:+1100
TZOFFSETTO:+1000
TZNAME:AEST
END:STANDARD
END:VTIMEZONE
END:VCALENDAR