BEGIN:VCALENDAR
VERSION:2.0
PRODID:-//wp-events-plugin.com//7.2.3.1//EN
TZID:Australia/Sydney
X-WR-TIMEZONE:Australia/Sydney
BEGIN:VEVENT
UID:831@unswoc.org
DTSTART:20150501T070000Z
DTEND:20150503T070000Z
DTSTAMP:20150430T014957Z
URL:https://unswoc.org/wordpress/events/interclub-weekend/
SUMMARY:Interclub Weekend - DELAYED DUE TO RAIN
DESCRIPTION:DELAYED DUE TO RAIN. EVENT WILL BE REPOSTED WITH NEW DATES AND 
 DETAILS\n\n&nbsp\;\n\nThe Interclub Weekend is where we go to the mountain
 s with the other University clubs in Sydney (UTSOAC\, SUBW\, SURMC). Like 
 last year it’s an opportunity for us to get to know the other clubs and 
 share knowledge and have fun. We’ll have up to 50 people from each club.
 \n\nIt’ll be the usual drive up Friday night\, do things Saturday-Sunday
 \, and head back down. The weekend is NOT the same as Boree Log\; there wo
 n’t be dinner provided and it is NOT a beginner trip. The trips are all
  intermediate or higher\, meaning that you need to be able to take care of
  yourself\, whether it’s climbing\, canyoning\, or hiking (you can still
  use club gear).\n\nWe’re staying at Old Ford Reserve on Megalong Valley
  Road (cross the railway tracks at Blackheath and drive down the hill\, ca
 mpsite is at the river). There is no drinking water but there is a river n
 ext to the campsite.\n\nThere will also be a gear swap "stall" (aka\, picn
 ic rug on the ground) on Saturday night where you can bring up your old or
  unused gear and sell it to others! Just put a postit note with your name\
 , price\, and any other details on the item and see if you can sell it\n\n
 Trips to go up will be something like 3 hiking trips\, 3 sport climbing tr
 ips\, trad trip\, boulder trip\, 2 canyon trips on Saturday and Sunday. Yo
 u are of course free to go do your own thing but it’ll be more fun if yo
 u get amongst it. Get networking people\, it’s the future!\n\n \n\nAs u
 sual you will need to be attending this event to go on the individual trip
 s.\n\n&nbsp\;
CATEGORIES:Social Event
LOCATION:Old Ford Reserve\, 1 Nellies Glen Road\, Megalong\, NSW\, Australi
 a
GEO:-33.731739;150.234818
X-APPLE-STRUCTURED-LOCATION;VALUE=URI;X-ADDRESS=1 Nellies Glen Road\, Megal
 ong\, NSW\, Australia;X-APPLE-RADIUS=100;X-TITLE=Old Ford Reserve:geo:-33.
 731739,150.234818
END:VEVENT
END:VCALENDAR