BEGIN:VCALENDAR
VERSION:2.0
PRODID:-//wp-events-plugin.com//7.2.3.1//EN
TZID:Australia/Sydney
X-WR-TIMEZONE:Australia/Sydney
BEGIN:VEVENT
UID:2437@unswoc.org
DTSTART;TZID=Australia/Sydney;VALUE=DATE:20190802
DTEND;TZID=Australia/Sydney;VALUE=DATE:20190805
DTSTAMP:20190710T063138Z
URL:https://unswoc.org/wordpress/events/interclub-weekend-3/
SUMMARY:Interclub weekend!
DESCRIPTION:We welcome you to attend the Interclub Weekend!\n\n"What is thi
 s?" you might be asking. Well\, it is a weekend away for all the trip lead
 ers and experienced club members of UNSWOC\, UTSOAC\, and SURMC to go away
 \, camp together and push each other's limits in order to learn and share 
 new skills\, and make new friends or life long belay buddies. THIS IS NOT 
 A BEGINNER WEEKEND. The trips are typically intermediate or higher\, meani
 ng that you need to be able to take care of yourself\, whether it’s clim
 bing\, canyoning\, caving or hiking (you can still use club gear from your
  own clubs).\n\nThe plan:\nCarpool down Friday night\, do some epic trips 
 Saturday\, have some festivities Saturday night whilst dressed like the Mi
 chelin Man (dressing up is encouraged!). Then we'll wake up and do another
  awesome trip Sunday\, drive back Sunday night.\n\nWhat to Bring:\nBring c
 amping gear\, appropriate gear and clothing for whatever trips you plan to
  do\, food\, alcohol\, and fuel money if you are grabbing a lift with some
 one.\n\nHow this is going to work:\nThere are plenty of cool things around
  (canyons\, caves\, sketchy trad and sport\, hikes\, and an abundance of b
 ouldering). Seeing as this is not a beginner's weekend there is no traditi
 onal "trip leader and attendees" format. If you want to do anything in par
 ticular\, comment below specifying what you'd like to do on the facebook p
 age here\, and how many people can join. People can then coordinate from t
 here. Sign up below so we know you are coming!\n\nAny questions just shoot
  Maria or I a message
ATTACH;FMTTYPE=image/jpeg:https://unswoc.org/wordpress/wp-content/uploads/
 2019/07/interclub-weekend.jpg
CATEGORIES:Bouldering,Bushwalking,Canyoning,Caving
END:VEVENT
BEGIN:VTIMEZONE
TZID:Australia/Sydney
X-LIC-LOCATION:Australia/Sydney
BEGIN:STANDARD
DTSTART:20190407T020000
TZOFFSETFROM:+1100
TZOFFSETTO:+1000
TZNAME:AEST
END:STANDARD
END:VTIMEZONE
END:VCALENDAR