BEGIN:VCALENDAR
VERSION:2.0
PRODID:-//wp-events-plugin.com//7.2.3.1//EN
TZID:Australia/Sydney
X-WR-TIMEZONE:Australia/Sydney
BEGIN:VEVENT
UID:1469@unswoc.org
DTSTART;VALUE=DATE:20151009
DTEND;VALUE=DATE:20151012
DTSTAMP:20151009T083823Z
URL:https://unswoc.org/wordpress/events/interclub-weekend-2/
SUMMARY:Interclub Weekend
DESCRIPTION:The Interclub Weekend is where we go to the mountains with the 
 other University clubs in Sydney (UTSOAC\, SUBW\, SURMC). Like last year i
 t’s an opportunity for us to get to know the other clubs and share knowl
 edge and have fun. We’ll have up to 50 people from each club.\n\nIt’ll
  be the usual drive up Friday night\, do things Saturday-Sunday\, and head
  back down. The weekend is NOT the same as Boree Log\; there won’t be di
 nner provided and it is not a beginner weekend. The trips are typically
  intermediate or higher\, meaning that you need to be able to take care o
 f yourself\, whether it’s climbing\, canyoning\, or hiking (you can stil
 l use club gear).\n\nWe’re staying at Old Ford Reserve DUNPHY'S CAMPGROU
 ND on Megalong Valley Road (cross the railway tracks at Blackheath and dr
 ive down the hill\, campsite is at the river). There is no drinking water 
 but there is a river next to the campsite.\n\nTrips to go up will be inclu
 de hiking trips\, climbing trips\, and canyoning trips on Saturday and Su
 nday. You are of course free to go do your own thing but it’ll be more f
 un if you get amongst it. Get networking people\, it’s the future!\n\n 
 \n\nAs usual you will need to be attending this event to go on the individ
 ual trips.\n\nMore details as they get fleshed out.
CATEGORIES:Social Event
LOCATION:Dunphy's Campground\, Megalong Valley Rd\, Blackheath\, NSW\, Aust
 ralia
GEO:-33.648388;150.275360
X-APPLE-STRUCTURED-LOCATION;VALUE=URI;X-ADDRESS=Megalong Valley Rd\, Blackh
 eath\, NSW\, Australia;X-APPLE-RADIUS=100;X-TITLE=Dunphy's Campground:geo:
 -33.648388,150.275360
END:VEVENT
END:VCALENDAR