BEGIN:VCALENDAR
VERSION:2.0
PRODID:-//wp-events-plugin.com//7.2.3.1//EN
TZID:Australia/Sydney
X-WR-TIMEZONE:Australia/Sydney
BEGIN:VEVENT
UID:835@unswoc.org
DTSTART:20150501T203000Z
DTEND:20150502T083000Z
DTSTAMP:20150428T060216Z
URL:https://unswoc.org/wordpress/events/interclub-tigersnake-canyon-saturd
 ay/
SUMMARY:Interclub Tigersnake Canyon Saturday
DESCRIPTION:On Saturday Vicky and I (Dion) will be running a trip through T
 iger Snake Canyon in Newnes State Forest! It looks really beautiful and a 
 few very cool abseils in it so I’ve been told. Crucially\, it’s a Dry 
 Canyon so you might get wet feet but won’t need a wetsuit. We'll be runn
 ing in conjuction with the UTS and USYD clubs so its a good op to meet so
 me other people in the outdoorsy community.\n\nYou will need to borrow the
  following from the gear cupboard the previous Wednesday:\n– Harness\n
 – Helmet\n– Belay Plate\n– 2 x Carabiners\n– Safety Sling\n\nAlso:
 \n– Food &amp\; Water for the day\n– Petrol Money\n– Woolen or Synth
 etic Socks (Buy some or source some)\n– Volleys (Or grippy shoes that wi
 ll drain of water)\n– Some spare clothes  to leave in the car in case y
 ou get wet\n– HEAD TORCH\n\n-   Defs a raincoat\n\nAnd a small backpack
  to hold all these things\n\nThe plan is to drive up Saturday morning and 
 back the same day.\n\nThere will be abseiling so experience is strongly re
 commended. We expect to get in the canyon at around 1030 and out just befo
 re sunset. The plan will go ahead unless its a really bad storm\, though t
 he forecast isn't too positive as yet. If you're going to the interclub ev
 ent in the megalong\, let me know and we'll discuss transport with the oth
 er clubs\n\nCheers folks!\n\nP.S. We haven’t done this canyon before and
  are prone to getting temporarily misplaced
CATEGORIES:Canyoning
LOCATION:Tigersnake Canyon\, Waratah Ridge Rd\, Newnes State Forest\, Austr
 alia
GEO:-33.371307;150.234238
X-APPLE-STRUCTURED-LOCATION;VALUE=URI;X-ADDRESS=Waratah Ridge Rd\, Newnes S
 tate Forest\, Australia;X-APPLE-RADIUS=100;X-TITLE=Tigersnake Canyon:geo:-
 33.371307,150.234238
END:VEVENT
END:VCALENDAR