BEGIN:VCALENDAR
VERSION:2.0
PRODID:-//wp-events-plugin.com//7.2.3.1//EN
TZID:Australia/Sydney
X-WR-TIMEZONE:Australia/Sydney
BEGIN:VEVENT
UID:3777@unswoc.org
DTSTART;TZID=Australia/Sydney:20260428T173000
DTEND;TZID=Australia/Sydney:20260428T200000
DTSTAMP:20260422T072817Z
URL:https://unswoc.org/wordpress/events/inter-club-story-night/
SUMMARY:Inter-Club Story Night
DESCRIPTION:Join us for the very first inter-club story night!\n\nGet keen 
 for an evening of epic tales from university outdoors clubs across Sydney.
  If you're looking to get inspired for your next adventure\, learn from ex
 perienced club members\, or just listen to some cool stories\, this is the
  event for you! This year we're lucky to be co-hosting with several other 
 clubs\, so it'll also be a great opportunity to connect with members of ot
 her clubs around Sydney.\n\nTickets are Free and include dinner for the n
 ight with BYO drinks at UTS Building 11\, Room 405\, who have been kind en
 ough to host us. Doors open from 5:30pm on Tuesday 28 April.\n\nHave a swe
 et adventure that you want to share? We're also looking for people to pres
 ent! If you're keen\, express your interest here.\n\nEach club in attendan
 ce will have members sharing stories. We'll be joined by:\n\n 	UTS Outdoor
 s Adventure Club\n 	Sydney University Bushwalkers\n 	Sydney University Roc
 k Climbing &amp\; Mountaineering Club\n 	Newcastle University Mountaineeri
 ng Club\n 	UNSWOC!\n\nIf you're keen to come along\, register by signup up
  below and putting any dietary requirements you have in your comment. UNSW
 OC has just 27 spots (out of 100 total)\, so get in quick! Closer to the e
 vent\, people who have signed up will receive an email with the ticket pur
 chase link.
ATTACH;FMTTYPE=image/jpeg:https://unswoc.org/wordpress/wp-content/uploads/
 2026/03/Copy-of-Arcteryx-story-night.png
CATEGORIES:Social Event
LOCATION:https://maps.app.goo.gl/Nu4Xy4mPYEGFQmjc8
END:VEVENT
BEGIN:VTIMEZONE
TZID:Australia/Sydney
X-LIC-LOCATION:Australia/Sydney
BEGIN:STANDARD
DTSTART:20260405T020000
TZOFFSETFROM:+1100
TZOFFSETTO:+1000
TZNAME:AEST
END:STANDARD
END:VTIMEZONE
END:VCALENDAR