BEGIN:VCALENDAR
VERSION:2.0
PRODID:-//wp-events-plugin.com//7.2.3.1//EN
TZID:Australia/Sydney
X-WR-TIMEZONE:Australia/Sydney
BEGIN:VEVENT
UID:3535@unswoc.org
DTSTART;TZID=Australia/Sydney:20250307T170000
DTEND;TZID=Australia/Sydney:20250307T213000
DTSTAMP:20250226T094526Z
URL:https://unswoc.org/wordpress/events/inter-club-pubgaine/
SUMMARY:Inter-Club PUBGAINE!
DESCRIPTION:INTER-UNI PUBGAINE 2025\nFriday March 7th BEFORE 6:20pm!\nCampe
 rdown Memorial Rest Park\nRace start is at Camperdown Memorial Rest park @
  6:30pm. Rego by 6:20pm.\n\n\n[caption id="attachment_18054" align="alignc
 enter" width="599"] 2024 Pubgaine[/caption]\n\n&nbsp\;\n\nCome one\, come 
 all\, Are you ready for a good time?\n\nOrganised by UTSOAC and in collabo
 ration with SURMC and UNSW Bouldersoc\, We present to you... PUBGAINE!\n\n
 For those of you who don’t know what we're on about\, a PUBGAINE is a co
 mbination of ‘Pub-crawl’ and ‘Rogaine’. In the former\, bevies are
  had. In the latter teams of 3-5 race around to collect Control Points wit
 h the aid of a map and compass. Combining these activities makes for a rea
 lly good time!\n\nThe rules are simple. Each team is given a list of pubs 
 and a map. Each pub is worth a designated number of points based roughly o
 n the difficulty of reaching it. You are allowed to move by foot\, or on p
 ublic transport\, but no cars\, taxi’s\, Uber's\, bicycles\, skateboards
 \, rollerblades\, pogo sticks. Unicycles are permitted. The team must rema
 in together at all times\, splitting up to get to more pubs is a big no.\n
 \nClick HERE to start forming teams!\n\nNo Team? No worries. Add your name
  in the first column of the sheet. Otherwise\, make sure to turn up betwee
 n 5 and 5:45pm so we have time to get you sorted 🙂 You can also ask on 
 the messenger chat HERE!\n\n\n\n\n 	We will meet at Camperdown Memorial Re
 st Park (5 min from Newtown Station) from 5 pm rain or shine\n 	The PUB-GA
 INE itself will begin at 6:30 pm. There will be a FREE BBQ and registratio
 n from 5 pm so come along at any time and get some food when you register.
  You’re welcome to come for just the BBQ as well!\n 	Rego will close at 
 6:20 before a mass start at 6:30. Maps will be handed out as you register 
 your team.\n 	All teams must be back at Camperdown Memorial Rest Park no l
 ater than 9:30\, and a penalty per minute late will be given. If you canno
 t make it in time after work/uni\, you may join a team out on the course i
 f you get them to register on your behalf.\n\n\n\n\nWhy not increase your 
 team’s points and go for a bonus?\n1. Each team member wears a head torc
 h\, you may turn it off when entering a venue (+20 points)\n2. Each team m
 ember wears a helmet (+10 points)\n3. A team member wears a climbing harne
 ss the whole night without taking it off (+15 points)\n4. At least one tea
 m member wears merch from any of the collaborating clubs (+15 points)\n\nA
 dditional secret bonuses will be announced on the day. So what are you wai
 ting for? Sign up now!\n\n\n\nDON't FORGET TO SIGN UP TO THE EVENT BELOW! 
 And please let us know your dietary requirements in the comments! Optional
  comment\, purely for my entertainment: if you could pick any theme for a 
 party\, what would it be? Creative or mundane as you like.\n\n\n\nReminder
  to form/pre-register your team or find one to join\, click HERE. You may 
 also do so on the night.\n\nJoin the messenger chat HERE to find a team or
  ask some questions about the event!\n\n\n\nFeel free to reach out to Amel
 ia V on Facebook messenger if you have any questions!
CATEGORIES:Social Event
LOCATION:https://maps.app.goo.gl/RSiv1GaLX39Vdxwh9
END:VEVENT
BEGIN:VTIMEZONE
TZID:Australia/Sydney
X-LIC-LOCATION:Australia/Sydney
BEGIN:DAYLIGHT
DTSTART:20241006T030000
TZOFFSETFROM:+1000
TZOFFSETTO:+1100
TZNAME:AEDT
END:DAYLIGHT
END:VTIMEZONE
END:VCALENDAR