BEGIN:VCALENDAR
VERSION:2.0
PRODID:-//wp-events-plugin.com//7.2.3.1//EN
TZID:Australia/Sydney
X-WR-TIMEZONE:Australia/Sydney
BEGIN:VEVENT
UID:2452@unswoc.org
DTSTART;TZID=Australia/Sydney;VALUE=DATE:20190906
DTEND;TZID=Australia/Sydney;VALUE=DATE:20190909
DTSTAMP:20190904T041623Z
URL:https://unswoc.org/wordpress/events/ice-climbing-to-blue-lake/
SUMMARY:Ice climbing to Blue Lake
DESCRIPTION:For the UNSWOC Snow Weekend (6-8/09/2019) the NZ crew plans to 
 head to Blue Lake to practice some glacier crossing / self-arrest and resc
 ue skills / ice climbing. The plan is TBD but roughly we will drive up to 
 the snowies on Friday\, stay at the house (Werralong Rd\, Dalgety\, NSW 26
 28 - 50 min from Cooma\, $30 per night pp)\, and head to Charlotte Pass on
  Saturday morning to hike to Blue Lake. Around there\, we could explore Mt
  Twynam or set up some top ropes on mixed terrain to give the ice axes som
 e use :P Plan is to camp on the snow and hike back on Sunday.\nThis is an 
 advanced / self-learning trip to train for NZ. If you have your own ice cl
 imbing gear\, snow and trad experience\, and know what you're doing\, shoo
 t me (Maria) a msg if you would like to join us.\n\n
END:VEVENT
BEGIN:VTIMEZONE
TZID:Australia/Sydney
X-LIC-LOCATION:Australia/Sydney
BEGIN:STANDARD
DTSTART:20190407T020000
TZOFFSETFROM:+1100
TZOFFSETTO:+1000
TZNAME:AEST
END:STANDARD
END:VTIMEZONE
END:VCALENDAR