BEGIN:VCALENDAR
VERSION:2.0
PRODID:-//wp-events-plugin.com//7.2.3.1//EN
TZID:Australia/Sydney
X-WR-TIMEZONE:Australia/Sydney
BEGIN:VEVENT
UID:2883@unswoc.org
DTSTART;TZID=Australia/Sydney:20210319T160000
DTEND;TZID=Australia/Sydney:20210319T183000
DTSTAMP:20210318T234422Z
URL:https://unswoc.org/wordpress/events/how-to-intro-to-navigation/
SUMMARY:*** Postponed due to weather** How to: intro to navigation
DESCRIPTION:\nHi UNSWOCers\, \nEver been lost trying to find a canyon exit?
  "geographically embarrassed" whilst exploring new hikes in the blue mount
 ains? Well\, come along to centennial park next Friday for an introduction
  to navigation! The basics of maps\, compasses\, grids and pacing will be 
 covered in the convenient location of the Centennial Park lands we can bui
 ld on for a later National Park trip to practice these navigation skills! 
 (See trip below)\n\nSign up below\, please comment if you have your own co
 mpass and bring along some paper and pencils.\n\n\n\n
ATTACH;FMTTYPE=image/jpeg:https://unswoc.org/wordpress/wp-content/uploads/
 2021/03/64873260_906934876320841_688455275836866560_n.jpg
CATEGORIES:Bushwalking,Orienteering,Training
END:VEVENT
BEGIN:VTIMEZONE
TZID:Australia/Sydney
X-LIC-LOCATION:Australia/Sydney
BEGIN:DAYLIGHT
DTSTART:20201004T030000
TZOFFSETFROM:+1000
TZOFFSETTO:+1100
TZNAME:AEDT
END:DAYLIGHT
END:VTIMEZONE
END:VCALENDAR