BEGIN:VCALENDAR
VERSION:2.0
PRODID:-//wp-events-plugin.com//7.2.3.1//EN
TZID:Australia/Sydney
X-WR-TIMEZONE:Australia/Sydney
BEGIN:VEVENT
UID:1996@unswoc.org
DTSTART:20160401T130000Z
DTEND:20160401T130000Z
DTSTAMP:20160328T080618Z
URL:https://unswoc.org/wordpress/events/hole-wall-saturday-2nd-april/
SUMMARY:Hole in the Wall Saturday the 2nd April
DESCRIPTION:Hey\n\nEamonn and I are going to run Hole-In-The-Wall canyon ne
 xt Saturday. It's an intermediate trip so you have to have abseiled and pr
 eferably canyoned before. It has a long walk in and an even longer walk ou
 t so you'll need to be relatively fit. We have to drive out to Newnes\, pa
 st where we had Boree Log by about half an hour and we'll drive back later
  that evening.\n\nYou'll need:\n\nA wetsuit\n\nThermals\n\nHelmet\n\nHarne
 ss\n\nATC\n\nBiner\n\nDaybag\n\nDrybag\n\nGrippy shoes\, which you don't m
 ind getting wet\n\nWoolen socks (definitely not cotton)\n\nLunch\n\nA day'
 s worth of water\n\nA headtorch\n\nSign up if you're interested. I promise
  I won't get lost this time\,\n\nDion.
CATEGORIES:Canyoning
END:VEVENT
END:VCALENDAR