BEGIN:VCALENDAR
VERSION:2.0
PRODID:-//wp-events-plugin.com//7.2.3.1//EN
TZID:Australia/Sydney
X-WR-TIMEZONE:Australia/Sydney
BEGIN:VEVENT
UID:2343@unswoc.org
DTSTART;VALUE=DATE:20181124
DTEND;VALUE=DATE:20181125
DTSTAMP:20181121T015916Z
URL:https://unswoc.org/wordpress/events/hole-wall-canyon/
SUMMARY:[TRIP FULL] Hole in the Wall Canyon
DESCRIPTION:Manon and I (Ben) are running a beginner-intermediate canyon to
  Hole in the Wall.  It’s an awesome canyon with few swims and some abse
 il and a glow worm tunnel! Experience in abseiling is not necessary but pr
 eferred.\n\nGEAR - see below\n\nClub stuff has an asterisk below and will
  be sorted out on Saturday morning (limited supplies)  - *\n\n 	Wetsuit *
 \n 	Helmet*\n 	Harness*\n 	ATC and locking biner*\n 	Safety sling and lock
 ing biner*\n 	Woollen socks and closed shoes that drain well (volleys are 
 recommended\, otherwise any shoes with good drainage and grip will do the 
 trick.\n 	Drybag (if you don't have one\, they're pretty cheap from any ou
 tdoors store or borrow from a friend)\n 	Lunch and at least 1.5L of water\
 n 	A backpack you don't mind getting wet and throwing around\n 	Towel and 
 dry clothes for the drive back to camp (including shoes and socks)\n 	(Opt
 ional) thermals to wear underneath your wetsuit. The water will be cold so
  thermals are recommended\n\nHope you can join us :)
ATTACH;FMTTYPE=image/jpeg:https://unswoc.org/wordpress/wp-content/uploads/
 2017/10/hitw.jpg
CATEGORIES:Canyoning
END:VEVENT
END:VCALENDAR