BEGIN:VCALENDAR
VERSION:2.0
PRODID:-//wp-events-plugin.com//7.2.3.1//EN
TZID:Australia/Sydney
X-WR-TIMEZONE:Australia/Sydney
BEGIN:VEVENT
UID:2196@unswoc.org
DTSTART;VALUE=DATE:20171029
DTEND;VALUE=DATE:20171030
DTSTAMP:20171018T071751Z
URL:https://unswoc.org/wordpress/events/hole-wall-canyon-sunday-intermedia
 te/
SUMMARY:Hole in the Wall Canyon (Sunday - Intermediate)
DESCRIPTION:Hey everybody!\n\nLiam and I will be leading a trip into the he
 art of the Newnes Plateau to the spectacular Hole in the Wall canyon: a lo
 oooong glow-worm cave and an exit through (you guessed it) a hole in the w
 all are some cool features to look forward to.\n\n          \n\nFor 
 more pictures and track notes\, check out http://ozultimate.com/canyoning
 /track_notes/hole-in-the-wall.htm\n\nThis will be a full day of hiking\, s
 crambling\, wading\, swimming\, abseiling and admiring\, so a reasonable l
 evel of physical fitness is required. Rope skills are preferred\, as is pr
 evious canyoning experience - when you sign up\, make sure you comment (or
  ideally\, stalk one of us on facey and send us a message as well) your ex
 perience canyoning or doing other outdoor activities !\n\nEqually as impor
 tant\, make sure you comment on how you can raise the morale of the group 
 and make this trip fully sick: promises of copious amounts of sweet dairy
 -based confectionary and mind-bending riddles are preferred\n\nWhat you ne
 ed:\n\n	harness**\n	helmet**\n	safety sling + biner**\n	atc + biner**\n	we
 tsuits**\n	backpack that can get wet\n	headtorch\n	drybag\n	runners that m
 ay get trashed\n	thermals\n	at least 1.5L of water\n	Lunch\n	Snackadactyls
 \n	Adventure spirit and heaps of good mood!**\n\n**you can get this from t
 he club\n\nGet keen for an epic send off to a great weekend!\n\nxoxo Nick 
 and Liam
ATTACH;FMTTYPE=image/jpeg:https://unswoc.org/wordpress/wp-content/uploads/
 2017/10/hitw.jpg
CATEGORIES:Boree Log,Canyoning
END:VEVENT
END:VCALENDAR