BEGIN:VCALENDAR
VERSION:2.0
PRODID:-//wp-events-plugin.com//7.2.3.1//EN
TZID:Australia/Sydney
X-WR-TIMEZONE:Australia/Sydney
BEGIN:VEVENT
UID:1471@unswoc.org
DTSTART:20151016T063000Z
DTEND:20151017T110000Z
DTSTAMP:20151012T032000Z
URL:https://unswoc.org/wordpress/events/hole-in-the-wall-canyon/
SUMMARY:Hole in the Wall Canyon
DESCRIPTION:Hole in the Wall Canyon!\n\nCheck out this site for a descripti
 on and links to some nice pics:\n\nhttp://ozultimate.com/canyoning/track_n
 otes/hole-in-the-wall.htm\n\nBecause it'll be a long trip we'll head up a
 nd camp at Mt Wilson on Friday (train to Mt Victoria where Damon will pick
  us up) and start early on Saturday. If you are interested in sticking ar
 ound on Sunday to do another canyon talk to Damon\, otherwise you can trai
 n home on Saturday.\n\nCanyoning experience is prefered but not required.
  Bring along a wetsuit\, harness\, headtorch\, belay device + bina. Also 
 bring along what ever you want for camping Friday night. Remember you can 
 borrow gear on Wednesday nights\, free for club trips.\n\nLiam + Damon
CATEGORIES:Canyoning
LOCATION:\, \, 
X-APPLE-STRUCTURED-LOCATION;VALUE=URI;X-ADDRESS=\, ;X-APPLE-RADIUS=100;X-TI
 TLE=:geo:0,0
END:VEVENT
END:VCALENDAR