BEGIN:VCALENDAR
VERSION:2.0
PRODID:-//wp-events-plugin.com//7.2.3.1//EN
TZID:Australia/Sydney
X-WR-TIMEZONE:Australia/Sydney
BEGIN:VEVENT
UID:826@unswoc.org
DTSTART;VALUE=DATE:20150411
DTEND;VALUE=DATE:20150412
DTSTAMP:20150410T071646Z
URL:https://unswoc.org/wordpress/events/hiking-its-a-walk-in-the-park/
SUMMARY:Hiking - it's a walk in the park...
DESCRIPTION:Hi All\,\n\n&nbsp\;\n\nAlex B and I are planning to run a Hikin
 g trip\, but we aren't quite sure where yet. Depending on the weather\, it
  will probably be something in the Blue Mountains or Royal National Park.\
 n\n&nbsp\;\n\nUPDATE: We are now sure! We'll be doing a loop along the coa
 st track. Basically we'll start from Bundeena\, catch the Ferry over and w
 ind our way along the coast. We'll need to start fairly early. The ferry d
 eparts to go across to Bundeena at 9:30\, so we will aim for that. So you'
 ll need to catch an early-ish train from central. We'll meet at the Bunde
 ena wharf about 9:15am.\n\n&nbsp\;\n\nThere's quite a few beaches and inle
 ts along the way\, so you might want to bring some swimmers. Aside from th
 at\, it is the usual for any bush walk - sunscreen\, comfy shoes etc! And 
 lunch - don't forget lunch.\n\n&nbsp\;\n\nCheers\,\n\n&nbsp\;\n\nSam and A
 lex
CATEGORIES:Bushwalking
END:VEVENT
END:VCALENDAR