BEGIN:VCALENDAR
VERSION:2.0
PRODID:-//wp-events-plugin.com//7.2.3.1//EN
TZID:Australia/Sydney
X-WR-TIMEZONE:Australia/Sydney
BEGIN:VEVENT
UID:2752@unswoc.org
DTSTART;TZID=Australia/Sydney:20201016T173000
DTEND;TZID=Australia/Sydney:20201018T210000
DTSTAMP:20201014T082519Z
URL:https://unswoc.org/wordpress/events/hiking-in-the-budawangs/
SUMMARY:Hiking in the Budawangs
DESCRIPTION:&nbsp\;\n\n------POSTPONED------\n\n&nbsp\;\n\nHello hello\,\n\
 nOliver and I will be running a overnight hiking trip this weekend!\n\nWe 
 are hoping to do an overnight hike in the Budawangs. Driving down Friday n
 ight to camp next to the cars and back Sunday night\, camping Saturday nig
 ht in the bush. The views and exploration possibility are excellent in the
  Budawangs so bring a good camera\, some grippy shoes and lots of hiking s
 nacks.\n\n\n\n&nbsp\;\n\nWe have a couple of routes in mind\, one being lo
 nger and more intense and the other being shorter. There is the possibilit
 y of rain so we will have to decide on the exact route on Wednesday. Let u
 s know in the comments:\n\n- What kind of car (if you have one) you have\,
  can it go on dirt roads?\n\n- How keen are you for a longer hike?\n\n- Wh
 ats your favourite hiking snack?\n\n\n\nTwo options marked in blue and yel
 low.\n\n&nbsp\;\n\nEquipment to bring\n\n- Tent or Bivi\n\n- Sleeping-bag 
 and mat\n\n- Stove\, fuel and cutlery\n\n- 1 x dinner\, 2 x breakfast\, 2 
 x lunch and many many snacks\n\n- 3L worth of drink bottle\, extra water i
 n the car\, sterilisation (if you want it)\n\n- RAINCOAT\n\n- sun protecti
 on\n\n- warm clothes\n\n- toothbrush and toilet paper\n\n- mozzie repellen
 t\n\n- HEAD TORCH\n\n- hiking boots\n\n- clean\, dry clothes for the drive
  home\n\nThe gear cupboard has SOME equipment if needed.\n\n&nbsp\;\n\n&nb
 sp\;\n\nIf you have any questions\, just message Oliver Nicholls or I (Mir
 a Bug)
END:VEVENT
BEGIN:VTIMEZONE
TZID:Australia/Sydney
X-LIC-LOCATION:Australia/Sydney
BEGIN:DAYLIGHT
DTSTART:20201004T030000
TZOFFSETFROM:+1000
TZOFFSETTO:+1100
TZNAME:AEDT
END:DAYLIGHT
END:VTIMEZONE
END:VCALENDAR