BEGIN:VCALENDAR
VERSION:2.0
PRODID:-//wp-events-plugin.com//7.2.3.1//EN
TZID:Australia/Sydney
X-WR-TIMEZONE:Australia/Sydney
BEGIN:VEVENT
UID:1982@unswoc.org
DTSTART:20160317T050000Z
DTEND:20160318T080000Z
DTSTAMP:20160315T124711Z
URL:https://unswoc.org/wordpress/events/hiking-boree-log-advanced-only/
SUMMARY:Hiking to Boree log! (Advanced only)
DESCRIPTION:We will be catching a train to Blackheath after uni on Thursday
  and hiking to Perry's lookdown campsite where we will stay the night. Fr
 om there we will embark on a walk down into the bluegum forest alongside t
 he river\, before leaving the valley up through Pierces Pass\, where we wi
 ll have lunch. After lunch we will walk along roads up to the Cathedral of
  Ferns Campsite. ETA to Boree log is 7pm Friday night.\n\nNote\, this is a
 n advanced trip as it covers more than of walking on steep terrain\, and t
 he walking Thursday will be during the night.\n\nYou must bring sufficient
  hiking and safety gear!\n\nSpots are limited as large groups are slow and
  cumbersome and we wish to move quickly and efficiently.\n\n&nbsp\;
CATEGORIES:Bushwalking
END:VEVENT
END:VCALENDAR