BEGIN:VCALENDAR
VERSION:2.0
PRODID:-//wp-events-plugin.com//7.2.3.1//EN
TZID:Australia/Sydney
X-WR-TIMEZONE:Australia/Sydney
BEGIN:VEVENT
UID:2109@unswoc.org
DTSTART;VALUE=DATE:20170402
DTEND;VALUE=DATE:20170403
DTSTAMP:20170328T112135Z
URL:https://unswoc.org/wordpress/events/hike-magdala-creek-boree-log-sunda
 y/
SUMMARY:Hike: Magdala Creek (Boree Log Sunday)
DESCRIPTION:Walk off your Rubik's cube hangover with Izzy and I on a scenic
  walk through the lower blue mountains called Magdala Creek. On Sunday mor
 ning we will drive to Springwood to begin this hike. It is an 11km hike th
 at should take around 5hrs return. The majority of the hike passes under t
 he tree canopy\, with lots of swimming holes and waterfalls to stop at. It
  also stops at Martin's lookout\, which has a beautiful view of the lower 
 mountains. The hike returns back to our cars and from there we will contin
 ue back to Sydney.\n\nTrack notes can be found at http://bushwalkingnsw.c
 om/walk.php?nid=207\n\nWhat you need to bring:\n\n	Shoes (hiking shoes are
  good but runners are fine)\n	Small backpack with water\, lunch\, sunscree
 n\n	Hat\, sunglasses\n	Swimmers!!!!! (there will be lots of swimming oppor
 tunities on this hike) and a towel\n\nSee ya there!!\n\nNOTE: you must be 
 attending boree log to go on this trip!! do not sign up if you are not goi
 ng to boree log!!\n\n&nbsp\;
CATEGORIES:Bushwalking
END:VEVENT
END:VCALENDAR