BEGIN:VCALENDAR
VERSION:2.0
PRODID:-//wp-events-plugin.com//7.2.3.1//EN
TZID:Australia/Sydney
X-WR-TIMEZONE:Australia/Sydney
BEGIN:VEVENT
UID:2124@unswoc.org
DTSTART;VALUE=DATE:20170401
DTEND;VALUE=DATE:20170402
DTSTAMP:20170330T122511Z
URL:https://unswoc.org/wordpress/events/hike-blue-gum-forest/
SUMMARY:Hike - Blue Gum Forest
DESCRIPTION:Come join me and Nikki on an adventure through the Blue Gum For
 est! The walk descends into the Grose Valley from Pierces Pass then meande
 rs through the tall trees beside the river before rising up out of the val
 ley again. All ability levels welcome\, but you will have to be attending
  Boree log to come on this trip.\n\nWhat to bring:\n- day bag\n- 2L of wat
 er\n- Snacks and lunch\n- Sunscreen and/or hat\n- Enclosed shoes\n- Rain 
 jacket\n- Snacks for your trip leaders \;P\n\nWe will need to drive to the
  start of the walk so comment when you sign up if you have a car and you w
 ill get priority
CATEGORIES:Boree Log,Bushwalking
END:VEVENT
END:VCALENDAR