BEGIN:VCALENDAR
VERSION:2.0
PRODID:-//wp-events-plugin.com//7.2.3.1//EN
TZID:Australia/Sydney
X-WR-TIMEZONE:Australia/Sydney
BEGIN:VEVENT
UID:565@unswoc.org
DTSTART:20140919T210000Z
DTEND:20140920T050000Z
DTSTAMP:20140917T185940Z
URL:https://unswoc.org/wordpress/events/hike-berowra-to-cowan/
SUMMARY:Hike - Berowra to Cowan
DESCRIPTION:Hey Guys\,\nChris and I (Chloe) will be leading a hiking trip f
 rom Berowra to Cowan via Berowra Waters this Saturday 20th September. We w
 ill be leaving Berowra station at 8:30am\, so if you want to get the train
  please be on the 7:45am train from CENTRAL (the Newcastle line)\, and we 
 will wait for that train to arrive before we leave.\nWe will be stopping a
 t Berowra Waters for lunch – there is a lovely picnic spot as well as so
 me pretty good gelato. The trip is open for all levels of experience\, how
 ever please note this is a 13km walk which should take us around 6 hours. 
 Once we get to Cowan station\, you can then very easily get the train back
  to Berowra/wherever else you want to go. Easy!\nYOU WILL REQUIRE:\n1. ENC
 LOSED WALKING SHOES – as we will be walking 13km+ this is VITAL. You wil
 l also need thick socks (leeches after all this rain are the worst). No fl
 ip flops\, crocs\, sandals etc.\n2. COMFORTABLE WALKING CLOTHES – as wea
 ther conditions may vary. Even in spring\, UV levels are still high so col
 lared t-shirts with sleeves are preferred over singlets. Please no jeans.\
 n3. BACKPACK – to fit AT LEAST 2L of water\, your lunch/snacks\, sunscre
 en (at least SPF30+\, but 50+ is better)\, a hat/sunglasses. You could sha
 re a backpack between a few people and take turns carrying it. 4. SWIMMERS
  – if you want to swim at Edenderry Falls\n5. WET WEATHER GEAR – there
 ’s been so much rain lately\, that it’s just likely to happen. At leas
 t after some sunshine the track has dried up a bit now!\nMost of this is B
 ASIC bushwalking gear and can be easily acquired\, but if you are having a
 ny trouble getting these or have any other questions please feel free to c
 ontact me using the comment section below\, email me: chloe_paton@hotmail.
 com or text me: 0439 034 187. PLEASE READ ALL OF THE ABOVE\nINFORMATION AN
 D COME WITH THE CORRECT GEAR MORE INFORMATION:\nhttp://www.wildwalks.com/b
 ushwalking-and-hiking-in-nsw/berowra-valley-regional-park/berowra-to-cowan
 -via-berowra-waters.html
ATTACH;FMTTYPE=image/jpeg:https://unswoc.org/wordpress/wp-content/uploads/
 2014/09/gelato.jpg
CATEGORIES:Bushwalking
LOCATION:Berowra Station\, Berowra Station\, Berowra\, NSW\, Australia
GEO:-33.623592;151.152634
X-APPLE-STRUCTURED-LOCATION;VALUE=URI;X-ADDRESS=Berowra Station\, Berowra\,
  NSW\, Australia;X-APPLE-RADIUS=100;X-TITLE=Berowra Station:geo:-33.623592
 ,151.152634
END:VEVENT
END:VCALENDAR