BEGIN:VCALENDAR
VERSION:2.0
PRODID:-//wp-events-plugin.com//7.2.3.1//EN
TZID:Australia/Sydney
X-WR-TIMEZONE:Australia/Sydney
BEGIN:VEVENT
UID:491@unswoc.org
DTSTART:20140704T130000Z
DTEND:20140710T130000Z
DTSTAMP:20140617T205212Z
URL:https://unswoc.org/wordpress/events/heeee-eyyyy-mt-arapiles/
SUMMARY:Heeee-eyyyy Mt Arapiles
DESCRIPTION:We go to the Crag Down Unda\, If you can trad lead/have someone
  to 2nd\, join us yes indeedy!
CATEGORIES:Outdoor Climbing
LOCATION:\, \, 
X-APPLE-STRUCTURED-LOCATION;VALUE=URI;X-ADDRESS=\, ;X-APPLE-RADIUS=100;X-TI
 TLE=:geo:0,0
END:VEVENT
END:VCALENDAR