BEGIN:VCALENDAR
VERSION:2.0
PRODID:-//wp-events-plugin.com//7.2.3.1//EN
TZID:Australia/Sydney
X-WR-TIMEZONE:Australia/Sydney
BEGIN:VEVENT
UID:2773@unswoc.org
DTSTART;TZID=Australia/Sydney:20201126T180000
DTEND;TZID=Australia/Sydney:20201126T190000
DTSTAMP:20201126T003824Z
URL:https://unswoc.org/wordpress/events/hauling-systems/
SUMMARY:Hauling Systems
DESCRIPTION:Hey everyone\,\n\nI'll be running a training session on hauling
  systems at the Ledge tonight. We'll be looking at a few basic hauling sys
 tems that can be set up with minimal gear.\n\nHauling is a useful skill fo
 r to know for climbing multipitch routes and in the (hopefully) unlikely e
 vent of something going wrong.\n\nEquipment required:\n\n 	Harness\n 	Slin
 g\n 	Guide mode ATC\n 	3x Locking carabiners\n 	2x prusiks\n\nPut any gear
  you need in the comments and I will grab them from the gear cupboard on t
 he way. Make sure you're also signed up to the Ledge event if you want to 
 come for this session.\n\n&nbsp\;
CATEGORIES:Training
END:VEVENT
BEGIN:VTIMEZONE
TZID:Australia/Sydney
X-LIC-LOCATION:Australia/Sydney
BEGIN:DAYLIGHT
DTSTART:20201004T030000
TZOFFSETFROM:+1000
TZOFFSETTO:+1100
TZNAME:AEDT
END:DAYLIGHT
END:VTIMEZONE
END:VCALENDAR