BEGIN:VCALENDAR
VERSION:2.0
PRODID:-//wp-events-plugin.com//7.2.3.1//EN
TZID:Australia/Sydney
X-WR-TIMEZONE:Australia/Sydney
BEGIN:VEVENT
UID:2024@unswoc.org
DTSTART:20160531T073000Z
DTEND:20160531T100000Z
DTSTAMP:20160527T063528Z
URL:https://unswoc.org/wordpress/events/haul-ass-to-haul-systems-self-resc
 ue-training/
SUMMARY:Haul Ass to Haul Systems (Self Rescue)
DESCRIPTION:You must have been to Basic Anchors Training or know how to bui
 ld anchors to attend this course\n\nHey everyone\,\n\nTuesday 6:30pm (fb e
 vent will be updated with law building room) I'll be teaching the must-kno
 w self rescue skill of haul systems. Please register below. They are impor
 tant for multi-pitching\, canyoning\, mountaineering and even kayaking.\n
 \nNB: This does not qualify you to safely build haul systems or undertake 
 activities mentioned. Merely instructional\, get a mentor/someone to take 
 you/official courses\, your risks are your own.\n\nI've used haul systems\
 n\n	Rescuing seconds who are injured/unable to climb a certain part (altho
 ugh ideally you shouldn't bring them up something too hard for them)\n	B
 ringing up a stuck abseiler\n	Hauling gear up a climb\n	Retrieving stuck r
 opes\n\nThere are more applications including\n\n	kayaking portadge\n	crev
 asse rescue\n	tightening tyrolean traverses\n	etc. etc.\n\nBased on my exp
 erience and 'Self Rescue' by David Fasulo I'll be teaching the\n\n	Ole 'th
 row a loop and biner down' (the best system if within 1/3 rope length\, an
 d not in the self rescue book)\n	3 to 1 (Z drag)\n	5 to 1\n	6 to 1\n\nChee
 rs\nBrendan
CATEGORIES:Training
END:VEVENT
END:VCALENDAR