BEGIN:VCALENDAR
VERSION:2.0
PRODID:-//wp-events-plugin.com//7.2.3.1//EN
TZID:Australia/Sydney
X-WR-TIMEZONE:Australia/Sydney
BEGIN:VEVENT
UID:318@unswoc.org
DTSTART;VALUE=DATE:20131119
DTEND;VALUE=DATE:20131120
DTSTAMP:20131118T023602Z
URL:https://unswoc.org/wordpress/events/hat-hill-canyon/
SUMMARY:Hat Hill Canyon
DESCRIPTION:CANYONING. YAAAY! :D\n\nleaving for a day trip at 6am from the 
 IGA on campus tomorrow (19th Nov). There's still a spot in the car :)\n\nO
 h and ignore the location on the events page. It is NOT in Bangor. Just ha
 d some trouble putting in the real location :)\n\nhttp://ozultimate.com/ca
 nyoning/track_notes/hat_hill.htm
LOCATION:\, \, 
X-APPLE-STRUCTURED-LOCATION;VALUE=URI;X-ADDRESS=\, ;X-APPLE-RADIUS=100;X-TI
 TLE=:geo:0,0
END:VEVENT
END:VCALENDAR