BEGIN:VCALENDAR
VERSION:2.0
PRODID:-//wp-events-plugin.com//7.2.3.1//EN
TZID:Australia/Sydney
X-WR-TIMEZONE:Australia/Sydney
BEGIN:VEVENT
UID:2845@unswoc.org
DTSTART;TZID=Australia/Sydney;VALUE=DATE:20210220
DTEND;TZID=Australia/Sydney;VALUE=DATE:20210221
DTSTAMP:20210217T213004Z
URL:https://unswoc.org/wordpress/events/hanging-out-at-camp/
SUMMARY:BL Saturday - Kayaking and Slacklining at Camp
DESCRIPTION:\n\nNOTE: Registration for all Boree Log day trips will open on
  Tuesday at 6 pm. You must already be accepted onto the main Boree Log eve
 nt in order to attend.\n\nCome join Ash and myself (Ava) for a chill day a
 t camp! We are on cooking duty so will be cooking up a storm and hanging o
 ut in camp so bring soccer balls\, footballs\, board games etc. and we can
  all hangout or even go for a dip in the river! We are also going to set u
 p some slacklines as well!\n\nThere are 6 flat water kayaks to be played a
 round with too!\n\nIf you’re interested leave a comment about your favou
 rite chocolate. If you’ve got any questions\, feel free to message Ashle
 igh Ford or Ava Del Tufo on Facebook.
CATEGORIES:Social Event
END:VEVENT
BEGIN:VTIMEZONE
TZID:Australia/Sydney
X-LIC-LOCATION:Australia/Sydney
BEGIN:DAYLIGHT
DTSTART:20201004T030000
TZOFFSETFROM:+1000
TZOFFSETTO:+1100
TZNAME:AEDT
END:DAYLIGHT
END:VTIMEZONE
END:VCALENDAR