BEGIN:VCALENDAR
VERSION:2.0
PRODID:-//wp-events-plugin.com//7.2.3.1//EN
TZID:Australia/Sydney
X-WR-TIMEZONE:Australia/Sydney
BEGIN:VEVENT
UID:1466@unswoc.org
DTSTART;VALUE=DATE:20150919
DTEND;VALUE=DATE:20150920
DTSTAMP:20150915T090850Z
URL:https://unswoc.org/wordpress/events/half-trip-coastal-track-royal-nati
 onal-park/
SUMMARY:HIKE - Coastal Track - Royal National Park
DESCRIPTION:Hello epic adventurers!\n\nThe weather is finally getting nice 
 and it's time for a hike/camping trip!!\n\nLiam and I will be running (as 
 in organizing\, not jogging) a beginner-friendly\, over-night hike this Sa
 turday and Sunday! We will be doing The Coast Track\, a gorgeous 26km hike
  through The Royal National Park. The hike traverses across pristine beach
 es and amazing sandstone cliffs. So bring your SWIMMERS and keep your eyes
  out for WALES!!\nWe will be starting from Bundeena Wharf and exiting at O
 tford station.\nDetailed tracknotes for the hike can be found here here.\
 nThis is an OVERNIGHT hiking trip. No experience is needed but keep in min
 d you will be carrying ALL OF YOUR GEAR (tent\, sleeping bag\, food for 2 
 days\, etc.) so a certain level of fitness is needed.\nNOTE: Don't panic a
 bout gear! If you do NOT have all your own gear you can rent gear from th
 e club on WEDNESDAYS for FREE. Just say you are borrowing it for this trip
 .\n\nWHAT TO BRING:\n\n	Hiking pack - Must be big enough to carry all the 
 things listed below. Can be rented from the club\n	Sleeping bag - Becaus
 e we are on the coast there can be some cold winds. You'll want something
  warm to crawl into!\n	Sleeping mat - not essential but MUCH more comforta
 ble!! The club has a few\n	Tent - We will contact you all about tents. I
 f you have one you can share that would be great! If not that's also ok\, 
 we will organize to grab you one! Keep in mind that you will need space f
 or the tent in your pack!!\n	Head-torch - Very important\n	Toiletries - 
 General things\, including some toilet paper.\n	Sunscreen - Spring is here
  and so is the Australian sun. Make sure you bring lots of sunscreen and a
 pply every few hours!\n	Water - With the hot weather water is extremely im
 portant. Bring AT LEAST 5L of water. There are only a few places to fill u
 p on the way and THERE IS NO WATER WHERE WE CAMP! You should try to DRINK
  4 OR 5L OF WATER throughout the day!\n	Lunch - You must provide your OWN
  lunch for Saturday AND Sunday.\n	Breakfast - You must provide your OWN b
 reakfast for Sunday morning\n	Dinner - We will be providing dinner for y'
 all\, so let us know if you have any dietary requirements!! BRING YOUR OWN
  BOWL AND UTENSILS.\n	Snacks - We'll be doing a lot of exercise\, so make 
 sure you bring lots of snacks to keep your energy levels up! Bring things 
 like nuts\, fruit\, dried fruit\, lollies\, biscuits\, chocolate\, muesli 
 bars\, etc. Enough for BOTH days.\n	Appropriate clothes - Appropriate hiki
 ng shoes\, Hat\, sun glasses\, light clothes (you will get hot!)\, a jump
 er and raincoat in case of bad weather. Thermals and beanie (if you have t
 hem) to be snugly at night!\n	SWIMMERS!\n	First Aid Kit - If you have one
 \n\nPLAN OF ATTACK:\n\n	We will be meeting at UNSW\, at the SAM CRACKNEL
  PAVILION at 7:30 AM. We have to leave UNSW at 8:00 AM at the VERY latest\
 , so please try to be there at 7:30.\n	We will be catching public transpor
 t so bring your OPAL-cards and some cash!\n	We will also be getting home v
 ia public transport.\n\nIf you have any questions\, look for Liam Hayes or
  Matilda Barlow on the UNSWOC facebook page and send us a message!\n\nChee
 rs!!
ATTACH;FMTTYPE=image/jpeg:https://unswoc.org/wordpress/wp-content/uploads/
 2015/09/31437.jpg
CATEGORIES:Bushwalking
LOCATION:Coastal Track\, 98 loftus St\, Bundeena\, NSW\, Royal National Par
 k\, Australia
GEO:-34.083920;151.151581
X-APPLE-STRUCTURED-LOCATION;VALUE=URI;X-ADDRESS=98 loftus St\, Bundeena\, N
 SW\, Royal National Park\, Australia;X-APPLE-RADIUS=100;X-TITLE=Coastal Tr
 ack:geo:-34.083920,151.151581
END:VEVENT
END:VCALENDAR