BEGIN:VCALENDAR
VERSION:2.0
PRODID:-//wp-events-plugin.com//7.2.3.1//EN
TZID:Australia/Sydney
X-WR-TIMEZONE:Australia/Sydney
BEGIN:VEVENT
UID:2004@unswoc.org
DTSTART:20160429T010000Z
DTEND:20160430T093000Z
DTSTAMP:20160413T085427Z
URL:https://unswoc.org/wordpress/events/granite-arses-project-cycle-tourin
 g-jervis-bay/
SUMMARY:The granite arses project: Cycle touring to Jervis Bay.
DESCRIPTION:Hola all\,\n\nOn the weekend the surfing and sailing societies 
 are having an open weekend down in Jervis bay\, camping down at caves beac
 h. This is a pretty beautiful spot\, and fairly close to Nowra which has b
 oth great climbing\, and a great brewery.\n\nNow\, you could drive down to
  Jervis bay... but with that attitude your arse will forever remain choss.
  Instead\, get your bike (buy one if you don't have one) and ride down. Of
  course riding all the way is perhaps a bit to much to ask\, so instead we
  will be starting from Berry and heading out to the Caves beach campground
 \, 53km all in all.\n\nWe'll leave on the Friday afternoon. I finish at 3p
 m\, and we'll head to the train station immediately afterwards. We'll get 
 dinner at Berry\, fuelling up for the ride out. On sunday we'll head back.
 \n\nWhat you will need:\nA bike - if you have a crappy one\, bring it to t
 he bike club and we'll whip it into shape.\nA rack - NOT A TRAD RACK - thi
 s goes on the back of your bike. For carrying gear. If you don't have a ra
 ck or panniers\, you might be able to dump gear in someones car and have t
 hem drive it down.\nPanniers - to put on your rack and carry your gear\nSp
 are tubes\, in case you get a puncture.\n\nTent\, sleeping bag\, sleeping 
 mat. Usual camping stuff.\n\nFood: Eating is important.\nWater: Drinking i
 s important.\nYou'll need enough for 2 days\, because we probably won't he
 ad back to town before then.\n\nSwimmers: It's a beach.\nA towel: Read Hit
 chhikers Guide to the Galaxy.\n\nLights: To illuminate your way in the dar
 kness of the Australian bush.\n\nSunscreen: There's no ozone here.\n\nI am
  planning to climb at Nowra on the Sunday at least\, so if you are plannin
 g to join in - bring your climbing gear.\n\nCheerio!\n\nSam\n\n&nbsp\;
END:VEVENT
END:VCALENDAR