BEGIN:VCALENDAR
VERSION:2.0
PRODID:-//wp-events-plugin.com//7.2.3.1//EN
TZID:Australia/Sydney
X-WR-TIMEZONE:Australia/Sydney
BEGIN:VEVENT
UID:2208@unswoc.org
DTSTART;VALUE=DATE:20171217
DTEND;VALUE=DATE:20171218
DTSTAMP:20171214T033530Z
URL:https://unswoc.org/wordpress/events/grandempress-beginner-canyon-sunda
 y-17122017/
SUMMARY:Grand/Empress Beginner Canyon Sunday 17/12/2017
DESCRIPTION:Hey guys\n\nWill be going to Grand and Empress Canyons\n\nWhat 
 to Bring:\n\n	At least 2L water\n	Food: lunch\, snacks.\n	Board shorts (to
  wear over wetsuit)\n	Backpack\n	Dry bag\n	Enclosed Shoes (Volleys are the
  best\, I use Dive boots\, old sneakers work too)\n	Woollen socks\n	Torch\
 n	Thermals (not cotton!) if you're an extra cold person\, to wear undernea
 th\n	Dry Clothes/thermals/jumper for emergency (inside drybag)\n	Dry cloth
 es to leave in car\n	Sunscreen\n	Helmet\,\n	Wetsuit (Can be borrowed from 
 the club)\n	Harness\,\n	descender and carabiner (Can be borrowed)\n	Safety
  sling and biner (Can be borrowed)\n	NO COTTON\n
CATEGORIES:Canyoning
END:VEVENT
END:VCALENDAR