BEGIN:VCALENDAR
VERSION:2.0
PRODID:-//wp-events-plugin.com//7.2.3.1//EN
TZID:Australia/Sydney
X-WR-TIMEZONE:Australia/Sydney
BEGIN:VEVENT
UID:1512@unswoc.org
DTSTART:20151205T230000Z
DTEND:20151206T090000Z
DTSTAMP:20151203T130431Z
URL:https://unswoc.org/wordpress/events/grand-canyon/
SUMMARY:Grand Canyon
DESCRIPTION:Hey all\,\n\nSo from the interest posted on the outdoors facebo
 ok page we'll be heading to Grand Canyon near Blackheath. This is a beginn
 er level canyon and should be pretty nice weather to enjoy all the views! 
 :) There will be a 30m swim\, and a few waist deep wades and some scrambli
 ng. http://ozultimate.com/canyoning/track_notes/grand.htm\n\nPart of the w
 alkway will be closed\, so we will enter from Evans lookout and head upstr
 eam to the start of the canyon.... and then come back again! :D\n\nWhat yo
 u will need:\n\n	Wetsuit\n	Some shorts to go over the wetsuit\n	Helmet\n	S
 ocks should be either synthetic or wool.  Cotton socks will be cold.\n	Su
 nscreen\n	Lunch and snacks for the day\n	2L of water\n	Head torch (with fu
 ll batteries)\n	Proper shoes that will get wet/dirty: Volleys are good or 
 some shoes that will have some grip when wet. Sandals are NOT okay.\n	Dry 
 bag\n	Small backpack that you don't mind getting wet and a bit dirty\n	Spa
 re clothes for end of day and perhaps a small towel and (Optional) thermal
 s\n	Fuel money for your driver :)\n\nNumbers are limited for beginner leve
 ls and will be most likely taken by those who showed initial interest on t
 he facebook thread. If you want to come along and have experience canyonin
 g\, please contact me :)\n\n&nbsp\;\n\nCheers\,\n\nEamonn\n\n&nbsp\;
ATTACH;FMTTYPE=image/jpeg:https://unswoc.org/wordpress/wp-content/uploads/
 2015/12/grandcanyon.jpg
CATEGORIES:Canyoning
END:VEVENT
END:VCALENDAR