BEGIN:VCALENDAR
VERSION:2.0
PRODID:-//wp-events-plugin.com//7.2.3.1//EN
TZID:Australia/Sydney
X-WR-TIMEZONE:Australia/Sydney
BEGIN:VEVENT
UID:1482@unswoc.org
DTSTART;VALUE=DATE:20151031
DTEND;VALUE=DATE:20151101
DTSTAMP:20151026T012509Z
URL:https://unswoc.org/wordpress/events/glowworm-tunnel-hike-boree-log/
SUMMARY:Glowworm Tunnel Hike - Boree Log
DESCRIPTION:Hey there! Hannah and I (Alie) will be running a hike to the Gl
 owworm tunnel. This trip is beginner friendly so all experience levels are
  welcome! It is a nice short day hike\, where we can explore through the o
 ld railway tunnels and hopefully see some glowworms.\n\nWhat to bring:\n\n
 	Enclosed shoes\n	water bottle\n	A head torch or flashlight\n	Something fo
 r lunch (and maybe some snacks)\n\n*Note: You will have to be attending th
 e Boree Log event to attend this trip.
CATEGORIES:Boree Log,Bushwalking
END:VEVENT
END:VCALENDAR