BEGIN:VCALENDAR
VERSION:2.0
PRODID:-//wp-events-plugin.com//7.2.3.1//EN
TZID:Australia/Sydney
X-WR-TIMEZONE:Australia/Sydney
BEGIN:VEVENT
UID:2756@unswoc.org
DTSTART;TZID=Australia/Sydney;VALUE=DATE:20201031
DTEND;TZID=Australia/Sydney;VALUE=DATE:20201101
DTSTAMP:20210218T042909Z
URL:https://unswoc.org/wordpress/events/girls-trad-trip/
SUMMARY:GIRLS TRAD TRIP
DESCRIPTION:Ever wanted to learn how the old school climbers did it\, jump 
 into some crack or expand your horizons? Mac\, Maria\, Jenny and I (Mira) 
 will be leading a trad climbing trip this weekend!\n\nThis learn to trad t
 rip is specifically for girls (and gender queer) people to encourage you t
 o push your comfort zones\, but still feel safe.\n\nOn the trip we will be
  placing gear on top rope\, checking your gear and maybe\, if your ready\,
  doing some leading.\n\nThings to bring:\n\n 	Harness\n 	Helmet\n 	ATC\n 	
 Safety\n 	Lunch\n 	At least 2l Water\n 	Hat\, sunscreen ect\n 	warm jumper
 \n 	any trad gear you already own\n\nAs we would like to go to a busy and 
 hot place this trip will start early (7:30 at the car park) there is the o
 ption to camp together in the mountains on Friday night. Write in the comm
 ents if you are prepared for this/ are self sufficient to camp.\n\nAs for 
 wether\, the rock needs to be dry\, especially for cracks so if the wether
  Is bad we may need to post pone/move to Sunday. I will make the call on t
 his on Wednesday to give people time to prepare\n\nlet me know in the comm
 ents what your experience with trad climbing is. If you have little to no 
 trad experience I will be running an introduction workshop at the ledge on
  Thursday (LINK HERE)\n\nIf you have any questions\, feel free to message 
 me (Mira bug)\n\nGET KEEN!!
ATTACH;FMTTYPE=image/jpeg:https://unswoc.org/wordpress/wp-content/uploads/
 2020/09/56910EDF-314C-4DA8-8116-3A83EA359C18.jpeg
CATEGORIES:Climbing
END:VEVENT
BEGIN:VTIMEZONE
TZID:Australia/Sydney
X-LIC-LOCATION:Australia/Sydney
BEGIN:DAYLIGHT
DTSTART:20201004T030000
TZOFFSETFROM:+1000
TZOFFSETTO:+1100
TZNAME:AEDT
END:DAYLIGHT
END:VTIMEZONE
END:VCALENDAR