BEGIN:VCALENDAR
VERSION:2.0
PRODID:-//wp-events-plugin.com//7.2.3.1//EN
TZID:Australia/Sydney
X-WR-TIMEZONE:Australia/Sydney
BEGIN:VEVENT
UID:474@unswoc.org
DTSTART;VALUE=DATE:20140502
DTEND;VALUE=DATE:20140504
DTSTAMP:20140420T154411Z
URL:https://unswoc.org/wordpress/events/girls-climbing-trip/
SUMMARY:Girls Climbing Trip
DESCRIPTION:Hi Girls\,\n\nWe are going to be running a beginner to intermed
 iate climbing trip at Thompson's Point down in Nowra on the 3rd of May. We
  will be setting up a bunch of top ropes and there will also be the possib
 ility of leading depending on the level of climbers that come along. There
  will be a facebook group where you can arrange transport (if you aren't o
 n facebook feel free to send me a message and I will try to sort something
  out for you.\n\nThere will be room for up to ten beginners so get in fast
 .\n\nWe will be driving down on Friday night and camping across the river 
 (at the ski park) and then getting up to head over to decent gully around 
 9am.\n\n&nbsp\;\n\nWe will have club ropes and quickdraws as well as the h
 arnesses and helmets. If you need any other gear please contact me.\n\nCya
  all there\,\n\nKylie\n\n0422976824
CATEGORIES:Outdoor Climbing
LOCATION:Thompson's Point\, Yalwal road \, Nowra\, Australia
GEO:-34.891788;150.589706
X-APPLE-STRUCTURED-LOCATION;VALUE=URI;X-ADDRESS=Yalwal road \, Nowra\, Aust
 ralia;X-APPLE-RADIUS=100;X-TITLE=Thompson's Point:geo:-34.891788,150.58970
 6
END:VEVENT
END:VCALENDAR