BEGIN:VCALENDAR
VERSION:2.0
PRODID:-//wp-events-plugin.com//7.2.3.1//EN
TZID:Australia/Sydney
X-WR-TIMEZONE:Australia/Sydney
BEGIN:VEVENT
UID:2173@unswoc.org
DTSTART;VALUE=DATE:20170916
DTEND;VALUE=DATE:20170918
DTSTAMP:20170913T044600Z
URL:https://unswoc.org/wordpress/events/girl-girl-climbing-weekend/
SUMMARY:Girl on Girl Climbing Weekend
DESCRIPTION:*PLEASE SIGN UP HERE IF COMING*\n\nHey girlzzzz\, this one's fo
 r you!\n\nThis is the weekend we've all been waiting for - time to ditch t
 hose smelly boys. let's go have a weekend full of nice rocks\, great jugs\
 , big racks\, and delicate cracks.\n\nwe will drive up to the mtns on satu
 rday morning\, camp at the piddo pines on sunday\, then climb again sunday
  and drive home in the evening. crags tbc based on numbers\, abilities\, a
 nd whether people want to sport or trad.\n\nthe facebook event will be use
 d to sort out numbers\, transport and other fine details.\n\nall self-suf
 ficient gals (i.e. got skills and gear) are welcome to come along.\n\nwe w
 ill have 5 spots for beginner gals on SUNDAY ONLY. you must be able to cli
 mb 18+ indoors\, otherwise it will be hard to get off the ground. more spo
 ts might open if we have enough leaders.
END:VEVENT
END:VCALENDAR