BEGIN:VCALENDAR
VERSION:2.0
PRODID:-//wp-events-plugin.com//7.2.3.1//EN
TZID:Australia/Sydney
X-WR-TIMEZONE:Australia/Sydney
BEGIN:VEVENT
UID:3517@unswoc.org
DTSTART;TZID=Australia/Sydney:20250105T093000
DTEND;TZID=Australia/Sydney:20250105T140000
DTSTAMP:20241219T054628Z
URL:https://unswoc.org/wordpress/events/giant-slip-n-slide/
SUMMARY:Giant Slip n Slide
DESCRIPTION:Hey legends\,\n\nAs promised in my electoral campaign\, giant s
 lip n slide building extravaganza will be going ahead. Come along and help
  assemble a monstrosity at Narrabeen Lagoon\, and slide into 2025 with sty
 le.\n\nThis is a great opportunity to meet other club members without the 
 pressure of having literally any skills and a good oppo for taking advanta
 ge of Sydney's scorching summer.\n\nHighly encouraged to bring along float
 ies\, boogie boards and biodegradable detergent to facilitate the sliding 
 and/or sliding-related lubrication.\n\n**We will be slippin n sliding stra
 ight into the lagoon so do not attempt to do so unless you can swim - I wo
 uld not like to fish you out of the lagoon\, nor can i promise my ability 
 to do so**\n\nTo bring:\n\n-sunscreen (lobsters will not be shown sympathy
 )\n\n-hat\n\n-swimmers\n\n-towel\n\n-biodegradable detergent\n\n-the spiri
 t of adventure and comradery\n\n-clothes and/or swimmers you are happy to 
 get detergent on\n\n-at least 2L of water\n\n-picnic style food (cheeky sn
 acks and/or lunch)\n\n-a UE boom if you have one\n\n-a cheeky beverage / e
 sky if you so fancy (lets keep it classy though)\n\n&nbsp\;\n\nWe will be 
 arriving from 9:30am to begin assembly\, feel free to arrive any time from
  9:30am onwards. We will be there until at least 2pm. In the group chat I 
 will try to facilitate some carpooling however this location will also be 
 accessible by public transport. I will make a group chat on facebook to ke
 ep everyone updated as to our whereabouts\, so in the comments please incl
 ude:\n\n-a link to your facebook profile\n\n-your swimming competency (ie.
  can you swim)\n\n-your favourite international boogie boarder\n\n-whether
  you have a car and number of spots available\n\n&nbsp\;\n\nKeen to see yo
 u all there for a cheeky sliderooni\n\nEmily xoxo
LOCATION:https://www.google.com/maps/place/Narrabeen+Lagoon/@-33.7127899,15
 1.2476411,13z/data=!3m1!4b1!4m6!3m5!1s0x6b0d55050707e34b:0x2a017d6844bcbd7
 0!8m2!3d-33.7124794!4d151.2845728!16s%2Fg%2F11bxfgywvc?entry=ttu&g_ep=Egoy
 MDI0MTIxMS4wIKXMDSoASAFQAw%3D%3D
END:VEVENT
BEGIN:VTIMEZONE
TZID:Australia/Sydney
X-LIC-LOCATION:Australia/Sydney
BEGIN:DAYLIGHT
DTSTART:20241006T030000
TZOFFSETFROM:+1000
TZOFFSETTO:+1100
TZNAME:AEDT
END:DAYLIGHT
END:VTIMEZONE
END:VCALENDAR