BEGIN:VCALENDAR
VERSION:2.0
PRODID:-//wp-events-plugin.com//7.2.3.1//EN
TZID:Australia/Sydney
X-WR-TIMEZONE:Australia/Sydney
BEGIN:VEVENT
UID:3577@unswoc.org
DTSTART;TZID=Australia/Sydney;VALUE=DATE:20250427
DTEND;TZID=Australia/Sydney;VALUE=DATE:20250428
DTSTAMP:20251117T040201Z
URL:https://unswoc.org/wordpress/events/giant-slip-n-slide-v2/
SUMMARY:Giant Slip n Slide V2
DESCRIPTION:\n**EDIT: it is likely to rain on Sunday but Hamza will be cook
 ing furiously in a gazebo while the sky bountifully provides free water fo
 r the slide**\n\nHappy Tuesday champions\,\n\n\nHamza and I are organising
  a UTS - UNSWOC crossover episode for giant slip n slide construction (v2)
  on the 27th of April. We will meet at 10am.\n\nLast slip n slide construc
 tion was 'very great success’ so we're roping in UTS and potentially a c
 ouple of other outdoor-oriented uni clubs (in the interests of expanding t
 he gene pool).\n\nLikely going ahead at Narrabeen Lagoon but location TBD 
 (accepting suggestions - there will be extensive topographic analysis).\n\
 nIf you’re interested in both:\n\n\n 	being thoroughly lubricated and\n 
 	experiencing the negative G force associated with being launched down a h
 ill into a body of water\n\n\n\nthen please hit up the sign ups page below
 .\n\nThis is also a great oppo to meet some likeminded G force loving folk
 s and photosynthesise on one of Sydney’s delectable beaches.\n\nWe will 
 be creating a group chat to sort out carpooling as well.\n\nCheers\,\nEmil
 y and Hamza\n\n\n
CATEGORIES:Social Event
LOCATION:https://www.google.com/maps/place/Narrabeen+Lagoon/@-33.7127899,15
 1.2476411,14131m/data=!3m2!1e3!4b1!4m6!3m5!1s0x6b0d55050707e34b:0x2a017d68
 44bcbd70!8m2!3d-33.7124794!4d151.2845728!16s%2Fg%2F11bxfgywvc?entry=ttu&g_
 ep=EgoyMDI1MDQwMi4xIKXMDSoASAFQAw%3D%3D
END:VEVENT
BEGIN:VTIMEZONE
TZID:Australia/Sydney
X-LIC-LOCATION:Australia/Sydney
BEGIN:STANDARD
DTSTART:20250406T020000
TZOFFSETFROM:+1100
TZOFFSETTO:+1000
TZNAME:AEST
END:STANDARD
END:VTIMEZONE
END:VCALENDAR